Workbook

Sheet 種目別
A2: 第11回福島県社会人クラブバドミントン選手権大会（団体戦）申込用紙 | G2: 46301
B4: メールアドレス syakaijin@fukubad.jp | F4: 2026年11月3日締め切り
B6: 申込責任者 | E6: 提出日 | F6: =NOW() -> 46302.923
D7: e-mail
B8: 種 別（部） | D8: 連絡先
B9: チーム名
B10: 全国大会出場
B12: ※「姓」と「名」の間には1つ分のスペースを入れてください
B13: ※「日本バドミントン協会登録番号」が無い場合は”99”を記入してください
B14: ※リスト入力で間違って入力した場合は"DELETE"キーで削除して下さい。
B15: 団体
B16: 監督
B17: ふりがな
B18: コーチ
B19: ふりがな
B20: 選手
B21: ふりがな
... B23: 生年月日
B24: 年齢 | C24: =IF(C23=""," ",(INT(((DATE(2026,4,2)-C23))/365.25))) | D24: =IF(D23=""," ",(INT(((DATE(2026,4,2)-D23))/365.25))) | E24: =IF(E23=""," ",(INT(((DATE(2026,4,2)-E23))/365.25))) | F24: =IF(F23=""," ",(INT(((DATE(2026,4,2)-F23))/365.25))) | G24: =IF(G23=""," ",(INT(((DATE(2026,4,2)-G23))/365.25))) | H24: =IF(H23=""," ",(INT(((DATE(2026,4,2)-H23))/365.25))) | I24: =IF(I23=""," ",(INT(((DATE(2026,4,2)-I23))/365.25))) | J24: =IF(J23=""," ",(INT(((DATE(2026,4,2)-J23))/365.25)))
B25: 協会登録番号 | K25: =COUNTIF(C25:J25,99) -> 0
B26: 社会人登録 | K26: =COUNTIF(C26:J26,"未") -> 0
B27: 他団体登録名 | K27: =COUNTA(C27:J27) -> 0
B29: 他団体登録名に該当する選手は、社会人登録欄には”他団体登録"を選び，下段の"他団体登録名"で該当項目を選んでください。

Sheet 参加費集計表
A2: =種目別!A2 -> 第11回福島県社会人クラブバドミントン選手権大会（団体戦）申込用紙
E3: 振り込み明細表
B5: 申込み日 | C5: =NOW() -> 46302.923
C7: 申込み責任者
C8: 氏 名 | D8: =種目別!C6 -> 0
C9: 所属名 | D9: =種目別!C9 -> 0
C10: 電話番号 | D10: =種目別!E8 -> 0
C11: メールアドレス | D11: =種目別!E7 -> 0
B15: ＜参加費集計表＞
B17: 合計金額を所定の振込先に期日までにお振込ください。
B19: 振込先】 金融機関：大東銀行 川俣支店
B20: 店番044 口座番号 （普） 3012300
B21: 口座名義 ： 福島県社会人クラブバドミントン連盟 理事長 安田 吉成
C25: 種目 | D25: 参加費
C26: =種目別!C8 -> 0 | D26: 18000
D28: 未登録者数 | E28: 参加料
C29: 県登録費 | D29: =種目別!K25 -> 0 | E29: =D29*2600 -> 0
C30: 社会人未登録 | D30: =種目別!K26 -> 0 | E30: =D30*500 -> 0
C31: 他団体登録者 | D31: =種目別!K27 -> 0 | E31: =D31*500 -> 0
D33: 金額合計 | E33: =D26+E29+E30+E31 -> 18000
B36: 振込人氏名
B38: ※名前を記載しない方は，無効になる恐れがあります。振り込む方の通帳の名前を記載願います。
