Workbook

Sheet 学校対抗
A1: 第55回全国高等学校選抜バドミントン大会
A2: 近畿地区予選 | AI2: ↓男子か女子のどちらかに付けてください
A3: 学校対抗 参加申込書 （男子・女子）
A5: ふりがな | U5: 学校長 | AF5: 公印
A6: 学校名 | Q6: 高等学校
A8: 学校 所在地 | D8: 〒 | H8: －
A11: 連絡先 | D11: 〒 | H11: －
D14: TEL | I14: － | M14: － | R14: FAX | W14: － | AA14: －
D15: メールアドレス
A16: ふりがな | P16: 携帯電話 | V16: － | AA16: －
A17: 申込 責任者 | N17: 印
A21: １部 どちらかに○印 ２部 | D21: ふ り が な | P21: 学年 | R21: 生年月日 （例 1997・11・17） | AA21: 令和８年度 日本協会登録番号 | AI21: ↓1部か２部のどちらかに付けてください
D22: 姓 名
A24: 監督
A27: コーチ | AI27: ※コーチ枠及び選手枠は、申込段階で「空欄」であった場合は、変更届で追加をすることができない。
A30: マネージャー (兼 選手８) | U30: ・ | X30: ・ | AI30: ※マネージャー枠は、申込段階で「大人」が入っていた場合は、「選手」に変更することができない。 (例) 〇 大人→大人 〇 選手→選手 × 大人→選手 × 空欄→大人及び選手
A33: 選手１ | U33: ・ | X33: ・
A36: 選手２ | U36: ・ | X36: ・
A39: 選手３ | U39: ・ | X39: ・
A42: 選手４ | U42: ・ | X42: ・
A45: 選手５ | U45: ・ | X45: ・
A48: 選手６ | U48: ・ | X48: ・
A51: 選手７ | U51: ・ | X51: ・

Sheet 個人対抗‗単複
A1: 第55回全国高等学校選抜バドミントン大会
A2: 近畿地区予選 | AI2: ↓男子か女子のどちらかに付けてください
A3: 個人対抗（単複） 参加申込書 （男子・女子）
A5: ふりがな | U5: 学校長 | AF5: 公印
A6: 学校名 | Q6: 高等学校
A8: 学校 所在地 | D8: 〒 | H8: －
A11: 連絡先 | D11: 〒 | H11: －
D14: TEL | I14: － | M14: － | R14: FAX | W14: － | AA14: －
D15: メールアドレス
A16: ふりがな | R16: 携帯 | X16: － | AC16: －
A17: 申込 責任者 | P17: 印
A22: ダブルス
D24: ふ り が な | P24: 学年 | R24: 生年月日 （例 1997・11・17） | AA24: 令和８年度 日本協会登録番号
D25: 姓 名
A27: 監督
A30: コーチ （引率者）
A33: 選手 （第1代表） | U33: ・ | X33: ・
U36: ・ | X36: ・
A39: 選手 （第2代表） | U39: ・ | X39: ・
U42: ・ | X42: ・
A47: シングルス
D49: ふ り が な | P49: 学年 | R49: 生年月日 （例 1997・11・17） | AA49: 令和８年度 日本協会登録番号
D50: 姓 名
A52: 監督
A55: コーチ （引率者）
A58: 選手 （第1代表） | U58: ・ | X58: ・
A61: 選手 （第2代表） | U61: ・ | X61: ・

Sheet 外字(該当者なしの場合も)
A1: 第55回全国高等学校選抜バドミントン大会
A2: 近畿地区予選
A3: 選手名 外字申請書
A5: ふりがな | AC5: 該当者なし
A6: 学校名 | Q6: 高等学校
A8: ふりがな | R8: 携帯 | X8: － | AC8: －
A9: 申込 責任者 | P9: 印
AU11: ☑
C13: ※楷書で分かりやすく記入してください。
D15: 選 手 姓 | P15: 選 手 名 | AB15: 性別 | AE15: 学年
A18: 選手１
A21: 選手２
A24: 選手３
A27: 選手４
A30: 選手５
A33: 選手６
A36: 選手７
A39: 選手８
A43: １）用紙が不足する場合は、コピーしてお使いください。
A44: ２）この用紙は、参加申込書とともに郵送してください。
A45: なお、該当者がいない場合は、上記の「該当者なし」に印を付けて提出してください。

Sheet 変更届(学校対抗)
A1: 第55回 全国高等学校選抜バドミントン大会近畿地区予選会
A2: 監督・コーチ・マネージャー・選手 (学校対抗戦)
A4: 変 更 届
G6: 府・県
E10: 高等学校
A12: 届出責任者
C14: 変 更 前 | G14: 変 更 後
A15: 監督
A16: コーチ | J16: ※コーチ枠及び選手枠は、申込段階で「空欄」であった場合は、変更届で追加をすることができない。
A17: マネージャー (兼 選手８) | J17: ※マネージャー枠は、申込段階で「大人」が入っていた場合は、「選手」に変更することができない。 (例) 〇 大人→大人 〇 選手→選手 × 大人→選手 × 空欄→大人及び選手
A18: 選手①
A19: 選手②
A20: 選手③
A21: 選手④
A22: 選手⑤
A23: 選手⑥
A24: 選手⑦
A26: ① | B26: 学校対抗戦当日、受付で提出してください。
A27: ② | B27: 該当者のみ記入してください。
A28: ③ | B28: 変更者については、競技会場の速報版の隣りに掲示します。

Sheet 棄権届・監督変更届(個人)
A1: 第55回 全国高等学校選抜バドミントン大会近畿地区予選
A2: 選手棄権届・監督変更届（個人対抗戦）
G4: 府・県
A7: 高等学校
A10: 選手の棄権
A11: プログラム 頁番号 | C11: BD/BS/GD/GS | E11: 選手番号 | G11: 棄権する選手の名前
A18: 監督の変更
A19: 訂正前 | G19: 訂正後
E20: ⇒
E21: ⇒
E22: ⇒
E23: ⇒
E24: ⇒
A26: 記載責任者
A27: 【学校名】 高等学校 【氏名】
A30: ＊大会当日に本部席に提出してください。

Sheet 個人コーチ申請書(参加申込書のコーチ欄に記載がない場合に使用)
D1: 令和８年 月 日
A2: 近畿高等学校バドミントン専門部
A3: 委員長 髙山 裕行 様
C4: 学 校 名
C5: 校 長 名 | F5: ㊞
C6: 顧 問 名
C7: （記載責任者）
A9: 第５５回 全国高等学校選抜バドミントン大会近畿地区予選
A10: コーチ申請書（学校長確認書）
A12: 下記の者を、本校が表記大会に出場するにあたり、①～④の条件を附してコーチとして確認いたしましたので、ご承認ください。
A13: 種 目 | B13: 個人戦（ 単 ・ 複 ） | C13: 男子 ・ 女子
A14: 出場資格 | B14: コーチ
A15: 氏 名 | C15: 性別 | D15: 男 ・ 女 | E15: 年齢 | F15: 歳
A16: 住 所 | B16: 〒 －
C19: ℡ － －
A20: 職 業
A21: （所 属）
A22: 学校との 関係
A23: （個人情報の目的外使用はいたしません。大会終了後直ちに処分します）
A24: ※フロアでアドバイスを行うコーチの遵守事項
A25: ① 監督（顧問）の補佐として、技術指導等を行うこと。
A26: ② 学校教育の一環として行われる大会の趣旨を十分に理解し、教育的な言動を行うこと。
A27: ③ 大会運営上問題が生じる場合や、条件に満たない言動があった場合は、大会本部の指示に従うこと。
A28: ④ 各府県専門部責任者（専門部委員長）との事前協議を踏まえ、「申請書」を本部に提出し、登録証（IDカード）を受け取り、期間中会場内では身につけておくこと。なお、退館時は本部まで返却すること。
A31: 令和８年 月 日
C33: 近畿専門部委員長確認印

Sheet プログラム用
A1: 第55回全国高等学校選抜バドミントン大会
A2: 近畿地区予選 | G2: シート保護 パスワード | I2: kinki
A5: 学校対抗 | Q5: 個人対抗 | R5: ダブルス | AC5: 作業用選手名への貼り付け用
Y6: 貼り付け用 | AC6: 個人対抗 | AD6: ダブルス
A7: ふりがな | B7: =学校対抗!D5 -> 0 | AC7: 分類 | AD7: 学校名 | AE7: よみがな | AF7: 姓 | AG7: 名 | AH7: 姓ふりがな | AI7: 名ふりがな | AJ7: 学年
A8: 学校名 | B8: =学校対抗!D6 -> 0 | R8: 選手名 | W8: ふりがな | X8: 監督名・コーチ名 | AC8: 監督 | AD8: =F31 -> 0 | AE8: =F30 -> 0 | AF8: =X11 -> 0 | AG8: =Z11 -> 0 | AH8: =X10 -> 0 | AI8: =Z10 -> 0
R9: 姓 | T9: 名 | V9: 学年 | W9: 学校名 | X9: 姓 | Z9: 名 | AC9: コーチ | AF9: =X13 -> 0 | AG9: =Z13 -> 0 | AH9: =X12 -> 0 | AI9: =Z12 -> 0
A10: ふりがな | B10: =学校対抗!D24 -> 0 | C10: =学校対抗!J24 -> 0 | Q10: ふりがな | R10: ='個人対抗‗単複'!D33 -> 0 | T10: ='個人対抗‗単複'!J33 -> 0 | X10: ='個人対抗‗単複'!D27 -> 0 | Z10: ='個人対抗‗単複'!J27 -> 0 | AC10: 第１代表 | AF10: =R11 -> 0 | AG10: =T11 -> 0 | AH10: =R10 -> 0 | AI10: =T10 -> 0 | AJ10: =V11 -> 0
A11: 監督 | B11: =学校対抗!D25 -> 0 | C11: =学校対抗!J25 -> 0 | Q11: 第１代表 | R11: ='個人対抗‗単複'!D34 -> 0 | T11: ='個人対抗‗単複'!J34 -> 0 | V11: ='個人対抗‗単複'!P33 -> 0 | W11: ='個人対抗‗単複'!D5 -> 0 | X11: ='個人対抗‗単複'!D28 -> 0 | Z11: ='個人対抗‗単複'!J28 -> 0 | AC11: 第１代表 | AF11: =R13 -> 0 | AG11: =T13 -> 0 | AH11: =R12 -> 0 | AI11: =T12 -> 0 | AJ11: =V13 -> 0
Q12: ふりがな | R12: ='個人対抗‗単複'!D36 -> 0 | T12: ='個人対抗‗単複'!J36 -> 0 | W12: ='個人対抗‗単複'!D6 -> 0 | X12: ='個人対抗‗単複'!D30 -> 0 | Z12: ='個人対抗‗単複'!J30 -> 0 | AC12: 第２代表 | AF12: =R15 -> 0 | AG12: =T15 -> 0 | AH12: =R14 -> 0 | AI12: =T14 -> 0 | AJ12: =V15 -> 0
A13: ふりがな | B13: =学校対抗!D27 -> 0 | C13: =学校対抗!J27 -> 0 | Q13: 第１代表 | R13: ='個人対抗‗単複'!D37 -> 0 | T13: ='個人対抗‗単複'!J37 -> 0 | V13: ='個人対抗‗単複'!P36 -> 0 | X13: ='個人対抗‗単複'!D31 -> 0 | Z13: ='個人対抗‗単複'!J31 -> 0 | AC13: 第２代表 | AF13: =R17 -> 0 | AG13: =T17 -> 0 | AH13: =R16 -> 0 | AI13: =T16 -> 0 | AJ13: =V17 -> 0
A14: コーチ | B14: =学校対抗!D28 -> 0 | C14: =学校対抗!J28 -> 0 | Q14: ふりがな | R14: ='個人対抗‗単複'!D39 -> 0 | T14: ='個人対抗‗単複'!J39 -> 0 | X14: ='個人対抗‗単複'!D27 -> 0 | Z14: ='個人対抗‗単複'!J27 -> 0
H15: =B15&" "&C15 | Q15: 第２代表 | R15: ='個人対抗‗単複'!D40 -> 0 | T15: ='個人対抗‗単複'!J40 -> 0 | V15: ='個人対抗‗単複'!P39 -> 0 | W15: ='個人対抗‗単複'!D5 -> 0 | X15: ='個人対抗‗単複'!D28 -> 0 | Z15: ='個人対抗‗単複'!J28 -> 0
A16: ふりがな | B16: =学校対抗!D30 -> 0 | C16: =学校対抗!J30 -> 0 | Q16: ふりがな | R16: ='個人対抗‗単複'!D42 -> 0 | T16: ='個人対抗‗単複'!J42 -> 0 | W16: ='個人対抗‗単複'!D6 -> 0 | X16: ='個人対抗‗単複'!D30 -> 0 | Z16: ='個人対抗‗単複'!J30 -> 0
A17: マネージャー兼 選手８ | B17: =学校対抗!D31 -> 0 | C17: =学校対抗!J31 -> 0 | D17: =学校対抗!P30 -> 0 | Q17: 第２代表 | R17: ='個人対抗‗単複'!D43 -> 0 | T17: ='個人対抗‗単複'!J43 -> 0 | V17: ='個人対抗‗単複'!P42 -> 0 | X17: ='個人対抗‗単複'!D31 -> 0 | Z17: ='個人対抗‗単複'!J31 -> 0
F18: 団体貼り付け-プログラム用 | H18: =B18&" "&C18
A19: ふりがな | B19: =学校対抗!D33 -> 0 | C19: =学校対抗!J33 -> 0 | H19: =B19&" "&C19 -> 0 0 | L19: =B22&" "&C22 -> 0 0
A20: 選手１ | B20: =学校対抗!D34 -> 0 | C20: =学校対抗!J34 -> 0 | D20: =学校対抗!P33 -> 0 | H20: =B20&" "&C20 -> 0 0 | I20: =D20 -> 0 | L20: =B23&" "&C23 -> 0 0 | M20: =D23 -> 0
F21: =B7 -> 0 | G21: =B10&" "&C10 -> 0 0 | H21: =B25&" "&C25 -> 0 0 | L21: =B28&" "&C28 -> 0 0 | Q21: 個人対抗 | R21: シングルス | Y21: 貼り付け用 | AC21: 作業用選手名への貼り付け用
A22: ふりがな | B22: =学校対抗!D36 -> 0 | C22: =学校対抗!J36 -> 0 | F22: =B8 -> 0 | G22: =B11&" "&C11 -> 0 0 | H22: =B26&" "&C26 -> 0 0 | I22: =D26 -> 0 | L22: =B29&" "&C29 -> 0 0 | M22: =D29 -> 0 | AC22: 個人対抗 | AD22: シングルス
A23: 選手２ | B23: =学校対抗!D37 -> 0 | C23: =学校対抗!J37 -> 0 | D23: =学校対抗!P36 -> 0 | G23: =B13&" "&C13 -> 0 0 | H23: =B31&" "&C31 -> 0 0 | L23: =B34&" "&C34 -> 0 0 | AC23: 分類 | AD23: 学校名 | AE23: よみがな | AF23: 姓 | AG23: 名 | AH23: 姓ふりがな | AI23: 名ふりがな | AJ23: 学年
G24: =B14&" "&C14 -> 0 0 | H24: =B32&" "&C32 -> 0 0 | I24: =D32 -> 0 | L24: =B35&" "&C35 -> 0 0 | M24: =D35 -> 0 | R24: 選手名 | W24: ふりがな | X24: 監督名・コーチ名 | AC24: 監督 | AD24: =W27 -> 0 | AE24: =W26 -> 0 | AF24: =X27 -> 0 | AG24: =Z27 -> 0 | AH24: =X26 -> 0 | AI24: =Z26 -> 0
A25: ふりがな | B25: =学校対抗!D39 -> 0 | C25: =学校対抗!J39 -> 0 | H25: =B37&" "&C37 -> 0 0 | L25: =B16&" "&C16 -> 0 0 | R25: 姓 | T25: 名 | V25: 学年 | W25: 学校名 | X25: 姓 | Z25: 名 | AC25: コーチ | AF25: =X29 -> 0 | AG25: =Z29 -> 0 | AH25: =X28 -> 0 | AI25: =Z28 -> 0
A26: 選手３ | B26: =学校対抗!D40 -> 0 | C26: =学校対抗!J40 -> 0 | D26: =学校対抗!P39 -> 0 | H26: =B38&" "&C38 -> 0 0 | I26: =D38 -> 0 | L26: =B17&" "&C17 -> 0 0 | M26: =D17 -> 0 | Q26: ふりがな | R26: ='個人対抗‗単複'!D58 -> 0 | T26: ='個人対抗‗単複'!J58 -> 0 | W26: ='個人対抗‗単複'!D5 -> 0 | X26: ='個人対抗‗単複'!D52 -> 0 | Z26: ='個人対抗‗単複'!J52 -> 0 | AC26: 第１代表 | AF26: =R27 -> 0 | AG26: =T27 -> 0 | AH26: =R26 -> 0 | AI26: =T26 -> 0 | AJ26: =V27 -> 0
H27: =B27&" "&C27 | Q27: 第１代表 | R27: ='個人対抗‗単複'!D59 -> 0 | T27: ='個人対抗‗単複'!J59 -> 0 | V27: ='個人対抗‗単複'!P58 -> 0 | W27: ='個人対抗‗単複'!D6 -> 0 | X27: ='個人対抗‗単複'!D53 -> 0 | Z27: ='個人対抗‗単複'!J53 -> 0 | AC27: 第２代表 | AF27: =R31 -> 0 | AG27: =T31 -> 0 | AH27: =R30 -> 0 | AI27: =T30 -> 0 | AJ27: =V31 -> 0
A28: ふりがな | B28: =学校対抗!D42 -> 0 | C28: =学校対抗!J42 -> 0 | F28: ダブルス貼り付け-プログラム用 | X28: ='個人対抗‗単複'!D55 -> 0 | Z28: ='個人対抗‗単複'!J55 -> 0
A29: 選手４ | B29: =学校対抗!D43 -> 0 | C29: =学校対抗!J43 -> 0 | D29: =学校対抗!P42 -> 0 | G29: =X10&" "&Z10 -> 0 0 | H29: =R10&" "&T10 -> 0 0 | L29: =R12&" "&T12 -> 0 0 | X29: ='個人対抗‗単複'!D56 -> 0 | Z29: ='個人対抗‗単複'!J56 -> 0
F30: ='個人対抗‗単複'!D5 -> 0 | G30: =X11&" "&Z11 -> 0 0 | H30: =R11&" "&T11 -> 0 0 | I30: =V11 -> 0 | L30: =R13&" "&T13 -> 0 0 | M30: =V13 -> 0 | Q30: ふりがな | R30: ='個人対抗‗単複'!D61 -> 0 | T30: ='個人対抗‗単複'!J61 -> 0 | W30: ='個人対抗‗単複'!D5 -> 0 | X30: ='個人対抗‗単複'!D52 -> 0 | Z30: ='個人対抗‗単複'!J52 -> 0
A31: ふりがな | B31: =学校対抗!D45 -> 0 | C31: =学校対抗!J45 -> 0 | F31: ='個人対抗‗単複'!D6 -> 0 | G31: =X12&" "&Z12 -> 0 0 | H31: =R14&" "&T14 -> 0 0 | L31: =R16&" "&T16 -> 0 0 | Q31: 第２代表 | R31: ='個人対抗‗単複'!D62 -> 0 | T31: ='個人対抗‗単複'!J62 -> 0 | V31: ='個人対抗‗単複'!P61 -> 0 | W31: ='個人対抗‗単複'!D6 -> 0 | X31: ='個人対抗‗単複'!D53 -> 0 | Z31: ='個人対抗‗単複'!J53 -> 0
A32: 選手５ | B32: =学校対抗!D46 -> 0 | C32: =学校対抗!J46 -> 0 | D32: =学校対抗!P45 -> 0 | G32: =X13&" "&Z13 -> 0 0 | H32: =R15&" "&T15 -> 0 0 | I32: =V15 -> 0 | L32: =R17&" "&T17 -> 0 0 | M32: =V17 -> 0 | X32: ='個人対抗‗単複'!D55 -> 0 | Z32: ='個人対抗‗単複'!J55 -> 0
H33: =B33&" "&C33 | X33: ='個人対抗‗単複'!D56 -> 0 | Z33: ='個人対抗‗単複'!J56 -> 0
A34: ふりがな | B34: =学校対抗!D48 -> 0 | C34: =学校対抗!J48 -> 0
A35: 選手６ | B35: =学校対抗!D49 -> 0 | C35: =学校対抗!J49 -> 0 | D35: =学校対抗!P48 -> 0 | F35: シングルス貼り付け-プログラム用
F36: ='個人対抗‗単複'!D5 -> 0 | G36: =X26&" "&Z26 -> 0 0 | H36: =R26&" "&T26 -> 0 0 | L36: =R30&" "&T30 -> 0 0
A37: ふりがな | B37: =学校対抗!D51 -> 0 | C37: =学校対抗!J51 -> 0 | F37: ='個人対抗‗単複'!D6 -> 0 | G37: =X27&" "&Z27 -> 0 0 | H37: =R27&" "&T27 -> 0 0 | I37: ='個人対抗‗単複'!P58 -> 0 | L37: =R31&" "&T31 -> 0 0 | M37: =V31
A38: 選手７ | B38: =学校対抗!D52 -> 0 | C38: =学校対抗!J52 -> 0 | D38: =学校対抗!P51 -> 0 | G38: =X28&" "&Z28 -> 0 0 | Q38: 学校対抗 | R38: 受付用
G39: =X29&" "&Z29 -> 0 0
Q40: 分類 | R40: 学校名 | S40: よみがな | T40: 姓 | U40: 名 | V40: 姓ふりがな | W40: 名ふりがな | X40: 学年
P41: 1 | Q41: =A11 -> 監督 | R41: =$B$8 -> 0 | S41: =$B$7 -> 0 | T41: =B11 -> 0 | U41: =C11 -> 0 | V41: =B10 -> 0 | W41: =C10 -> 0 | X41: =D11 -> 0
P42: 2 | Q42: =A14 -> コーチ | R42: =$B$8 -> 0 | S42: =$B$7 -> 0 | T42: =B14 -> 0 | U42: =C14 -> 0 | V42: =B13 -> 0 | W42: =C13 -> 0 | X42: =D14 -> 0
P43: 3 | Q43: =A20 -> 選手１ | R43: =$B$8 -> 0 | S43: =$B$7 -> 0 | T43: =B20 -> 0 | U43: =C20 -> 0 | V43: =B19 -> 0 | W43: =C19 -> 0 | X43: =D20 -> 0
P44: 4 | Q44: =A23 -> 選手２ | R44: =$B$8 -> 0 | S44: =$B$7 -> 0 | T44: =B23 -> 0 | U44: =C23 -> 0 | V44: =B22 -> 0 | W44: =C22 -> 0 | X44: =D23 -> 0
P45: 5 | Q45: =A26 -> 選手３ | R45: =$B$8 -> 0 | S45: =$B$7 -> 0 | T45: =B26 -> 0 | U45: =C26 -> 0 | V45: =B25 -> 0 | W45: =C25 -> 0 | X45: =D26 -> 0
P46: 6 | Q46: =A29 -> 選手４ | R46: =$B$8 -> 0 | S46: =$B$7 -> 0 | T46: =B29 -> 0 | U46: =C29 -> 0 | V46: =B28 -> 0 | W46: =C28 -> 0 | X46: =D29 -> 0
P47: 7 | Q47: =A32 -> 選手５ | R47: =$B$8 -> 0 | S47: =$B$7 -> 0 | T47: =B32 -> 0 | U47: =C32 -> 0 | V47: =B31 -> 0 | W47: =C31 -> 0 | X47: =D32 -> 0
P48: 8 | Q48: =A35 -> 選手６ | R48: =$B$8 -> 0 | S48: =$B$7 -> 0 | T48: =B35 -> 0 | U48: =C35 -> 0 | V48: =B34 -> 0 | W48: =C34 -> 0 | X48: =D35 -> 0
P49: 9 | Q49: =A38 -> 選手７ | R49: =$B$8 -> 0 | S49: =$B$7 -> 0 | T49: =B38 -> 0 | U49: =C38 -> 0 | V49: =B37 -> 0 | W49: =C37 -> 0 | X49: =D38 -> 0
P50: 10 | Q50: =A17 -> マネージャー兼 選手８ | R50: =$B$8 -> 0 | S50: =$B$7 -> 0 | T50: =B17 -> 0 | U50: =C17 -> 0 | V50: =B16 -> 0 | W50: =C16 -> 0 | X50: =D17 -> 0
