Workbook

Sheet チーム名
A1: チーム名 | D1: 第６３回姫路秋季バドミントン大会
K2: No. | L2: 2026年度登録チーム一覧
A3: 最初にこのシートのチーム名を選択してください。他のシートに自動入力されます | K3: 1 | L3: REDWINGS
A4: チーム名が存在しない場合は、チーム登録のシートを記入後、チーム名（最下部）を選択してください | K4: 2 | L4: LUNA
K5: 3 | L5: 英賀保ジュニア
K6: 4 | L6: SACLA
A7: 申込者： | K7: 5 | L7: 日本製鉄
A8: メール： | K8: 6 | L8: 鹿翔会
B9: ※メールアドレスは手入力せず、必ずメールソフトからコピー＆貼り付けしてください。 | K9: 7 | L9: 太市ＢＣ
B10: メールアドレスが誤っている場合、事前のプログラムデータ送付が届きません。 | K10: 8 | L10: ミクニノ
K11: 9 | L11: 姫路東高校
B12: 【参加料納入票】 ※背景水色カ所以外は自動入力されます | K12: 10 | L12: 姫路市役所
B13: 種目 | C13: エントリー | D13: 金額 | E13: 小計 | K13: 11 | L13: 飾磨ジュニアBC
B14: 一般男子ダブルス | C14: =COUNTIF(一般複!$B$8:$B$87,"一般男子*") -> 0 | D14: 3000 | E14: =C14*D14 -> 0 | K14: 12 | L14: 中地バド
B15: 高校生男子ペア* | C15: 0 | D15: -500 | E15: =C15*D15 -> 0 | K15: 13 | L15: 津田クラブ
B16: 一般女子ダブルス | C16: =COUNTIF(一般複!$B$8:$B$87,"一般女子*") -> 0 | D16: 2500 | E16: =C16*D16 -> 0 | K16: 14 | L16: Junkie
B17: 一般混合ダブルス | C17: =COUNTIF(一般複!$B$8:$B$87,"一般混合*") -> 0 | D17: 3000 | E17: =C17*D17 -> 0 | K17: 15 | L17: 飾工クラブ
B18: 高校生混合ペア* | C18: 0 | D18: -500 | E18: =C18*D18 -> 0 | K18: 16 | L18: 勝原ジュニア
B19: 一般男子シングルス | C19: =COUNTIF(一般単!$B$7:$B$36,"一般男子*") -> 0 | D19: 2000 | E19: =C19*D19 -> 0 | K19: 17 | L19: いとひき
B20: 一般女子シングルス | C20: =COUNTIF(一般単!$B$7:$B$36,"一般女子*") -> 0 | D20: 1500 | E20: =C20*D20 -> 0 | K20: 18 | L20: ストーミー
B21: 協会登録 | C21: =COUNTA(個人登録!C7:C86) -> 0 | D21: 300 | E21: =C21*D21 -> 0 | K21: 19 | L21: ダイセル
D22: 合計 | E22: =SUM(E14:E21) -> 0 | K22: 20 | L22: ADVANCE
B23: *一般男子複、一般混合複において、ペアが2人共高校生の場合は高校生ペアの数を選択 | K23: 21 | L23: piyopiyo
K24: 22 | L24: 赤壁
K25: 23 | L25: kizashi
K26: 24 | L26: 兵庫県立大学姫路
K27: 25 | L27: おおしおBC
K28: 26 | L28: NAKAO.J.B.C
K29: 27 | L29: 姫路商業高校
K30: 28 | L30: Dabllig
K31: 29 | L31: 家島高校
K32: 30 | L32: 飾磨工高
K33: 31 | L33: 飾磨工高（多）
K34: 32 | L34: ハチミツドーナツ
K35: 33 | L35: BUZZ
... K67: 124 | L67: 妹尾BC
K68: 999 | L68: =チーム登録!C3 -> 0

Sheet 個人登録
B2: ２０２６年度 姫路バドミントン協会登録（フルネームで記入のこと）
B3: ※氏名、性別・生年月日・住所全て必須項目です
B4: チ ー ム 名 | E4: =チーム名!B1 -> 0
C5: 姓 | D5: 名 | E5: 性 別 | F5: 生年月日(西暦) | G5: 住 所
B6: 例 | C6: 白鷺 | D6: 姫子 | E6: 女 | F6: 34314 | G6: 姫路市本町68
B7: 1
B8: 2
B9: 3
B10: 4
B11: 5
B12: 6
B13: 7
B14: 8
B15: 9
B16: 10
B17: 11
B18: 12
... B86: 80
B88: ＊提供される個人情報は､各大会の案内･参加資格確認等以外の目的に使用することはありません

Sheet 一般複
A1: =チーム名!D1 -> 第６３回姫路秋季バドミントン大会 | G1: 一般ダブルス申込書
B3: チーム名： | C3: =チーム名!B1 -> 0
A5: No. | B5: エントリー種目 (リスト選択） | C5: チーム内 順位 | D5: 氏名・姓 | E5: 氏名・名 | F5: フリガナ・姓 （カタカナ） | G5: フリガナ・名 （カタカナ） | H5: 性別 | I5: 学年 | J5: チーム名 | L5: 【入力時の注意事項】マクロで自動取り込みさせているため、以下の入力条件を必ず守ってください。
A6: 例 | B6: 一般混合１部複 | C6: ① | D6: 白鷺 | E6: 姫子 | F6: シラサギ | G6: ヒメコ | H6: 女 | J6: チームしろまるひめ | L6: ※守られていない場合、正しく受付されない場合があります
D7: 播磨 | E7: 官兵衛 | F7: ハリマ | G7: カンベエ | H7: 男 | I7: 高２ | J7: しょうが醬油おでん
A8: 1 | C8: =IF(B8="","",IF(COUNTIF($B$8:$B$99,B8)=1,"①",COUNTIF($B$8:B8,B8))) | J8: =$C$3 -> 0 | L8: ＊高校生が参加する場合は、学年欄の学年を選択してください
J9: =$C$3 -> 0
A10: 2 | C10: =IF(B10="","",IF(COUNTIF($B$8:$B$99,B10)=1,"①",COUNTIF($B$8:B10,B10))) | J10: =$C$3 -> 0 | L10: ＊チーム内順位は自動で反映されます。チーム内の強い順に上から記入してください。
J11: =$C$3 -> 0 | L11: ＊異なるチームでペアで組む場合は、下側のチーム名を修正してください。
A12: 3 | C12: =IF(B12="","",IF(COUNTIF($B$8:$B$99,B12)=1,"①",COUNTIF($B$8:B12,B12))) | J12: =$C$3 -> 0
J13: =$C$3 -> 0 | L13: ＊エントリーNo.を飛ばして入力しないでください
A14: 4 | C14: =IF(B14="","",IF(COUNTIF($B$8:$B$99,B14)=1,"①",COUNTIF($B$8:B14,B14))) | J14: =$C$3 -> 0 | M14: 例） | N14: No.1 から No.4 を入力して、No.3 が不参加になった場合、No.3 を削除するだけではなく、No.4 を No.3 に再入力してください
J15: =$C$3 -> 0
A16: 5 | C16: =IF(B16="","",IF(COUNTIF($B$8:$B$99,B16)=1,"①",COUNTIF($B$8:B16,B16))) | J16: =$C$3 -> 0
J17: =$C$3 -> 0
A18: 6 | C18: =IF(B18="","",IF(COUNTIF($B$8:$B$99,B18)=1,"①",COUNTIF($B$8:B18,B18))) | J18: =$C$3 -> 0
J19: =$C$3 -> 0
A20: 7 | C20: =IF(B20="","",IF(COUNTIF($B$8:$B$99,B20)=1,"①",COUNTIF($B$8:B20,B20))) | J20: =$C$3 -> 0
J21: =$C$3 -> 0
A22: 8 | C22: =IF(B22="","",IF(COUNTIF($B$8:$B$99,B22)=1,"①",COUNTIF($B$8:B22,B22))) | J22: =$C$3 -> 0
J23: =$C$3 -> 0
A24: 9 | C24: =IF(B24="","",IF(COUNTIF($B$8:$B$99,B24)=1,"①",COUNTIF($B$8:B24,B24))) | J24: =$C$3 -> 0
J25: =$C$3 -> 0
A26: 10 | C26: =IF(B26="","",IF(COUNTIF($B$8:$B$99,B26)=1,"①",COUNTIF($B$8:B26,B26))) | J26: =$C$3 -> 0
J27: =$C$3 -> 0
A28: 11 | C28: =IF(B28="","",IF(COUNTIF($B$8:$B$99,B28)=1,"①",COUNTIF($B$8:B28,B28))) | J28: =$C$3 -> 0
J29: =$C$3 -> 0
A30: 12 | C30: =IF(B30="","",IF(COUNTIF($B$8:$B$99,B30)=1,"①",COUNTIF($B$8:B30,B30))) | J30: =$C$3 -> 0
J31: =$C$3 -> 0
A32: 13 | C32: =IF(B32="","",IF(COUNTIF($B$8:$B$99,B32)=1,"①",COUNTIF($B$8:B32,B32))) | J32: =$C$3 -> 0
J33: =$C$3 -> 0
A34: 14 | C34: =IF(B34="","",IF(COUNTIF($B$8:$B$99,B34)=1,"①",COUNTIF($B$8:B34,B34))) | J34: =$C$3 -> 0
J35: =$C$3 -> 0
A36: 15 | C36: =IF(B36="","",IF(COUNTIF($B$8:$B$99,B36)=1,"①",COUNTIF($B$8:B36,B36))) | J36: =$C$3 -> 0
J37: =$C$3 -> 0
A38: 16 | C38: =IF(B38="","",IF(COUNTIF($B$8:$B$99,B38)=1,"①",COUNTIF($B$8:B38,B38))) | J38: =$C$3 -> 0
J39: =$C$3 -> 0
A40: 17 | C40: =IF(B40="","",IF(COUNTIF($B$8:$B$99,B40)=1,"①",COUNTIF($B$8:B40,B40))) | J40: =$C$3 -> 0
J41: =$C$3 -> 0
A42: 18 | C42: =IF(B42="","",IF(COUNTIF($B$8:$B$99,B42)=1,"①",COUNTIF($B$8:B42,B42))) | J42: =$C$3 -> 0
J43: =$C$3 -> 0
A44: 19 | C44: =IF(B44="","",IF(COUNTIF($B$8:$B$99,B44)=1,"①",COUNTIF($B$8:B44,B44))) | J44: =$C$3 -> 0
J45: =$C$3 -> 0
A46: 20 | C46: =IF(B46="","",IF(COUNTIF($B$8:$B$99,B46)=1,"①",COUNTIF($B$8:B46,B46))) | J46: =$C$3 -> 0
J47: =$C$3 -> 0
A48: 21 | C48: =IF(B48="","",IF(COUNTIF($B$8:$B$99,B48)=1,"①",COUNTIF($B$8:B48,B48))) | J48: =$C$3 -> 0
J49: =$C$3 -> 0
A50: 22 | C50: =IF(B50="","",IF(COUNTIF($B$8:$B$99,B50)=1,"①",COUNTIF($B$8:B50,B50))) | J50: =$C$3 -> 0
J51: =$C$3 -> 0
A52: 23 | C52: =IF(B52="","",IF(COUNTIF($B$8:$B$99,B52)=1,"①",COUNTIF($B$8:B52,B52))) | J52: =$C$3 -> 0
J53: =$C$3 -> 0
A54: 24 | C54: =IF(B54="","",IF(COUNTIF($B$8:$B$99,B54)=1,"①",COUNTIF($B$8:B54,B54))) | J54: =$C$3 -> 0
J55: =$C$3 -> 0
A56: 25 | C56: =IF(B56="","",IF(COUNTIF($B$8:$B$99,B56)=1,"①",COUNTIF($B$8:B56,B56))) | J56: =$C$3 -> 0
J57: =$C$3 -> 0
A58: 26 | C58: =IF(B58="","",IF(COUNTIF($B$8:$B$99,B58)=1,"①",COUNTIF($B$8:B58,B58))) | J58: =$C$3 -> 0
J59: =$C$3 -> 0
A60: 27 | C60: =IF(B60="","",IF(COUNTIF($B$8:$B$99,B60)=1,"①",COUNTIF($B$8:B60,B60))) | J60: =$C$3 -> 0
J61: =$C$3 -> 0
A62: 28 | C62: =IF(B62="","",IF(COUNTIF($B$8:$B$99,B62)=1,"①",COUNTIF($B$8:B62,B62))) | J62: =$C$3 -> 0
J63: =$C$3 -> 0
A64: 29 | C64: =IF(B64="","",IF(COUNTIF($B$8:$B$99,B64)=1,"①",COUNTIF($B$8:B64,B64))) | J64: =$C$3 -> 0
J65: =$C$3 -> 0
A66: 30 | C66: =IF(B66="","",IF(COUNTIF($B$8:$B$99,B66)=1,"①",COUNTIF($B$8:B66,B66))) | J66: =$C$3 -> 0
J67: =$C$3 -> 0
A68: 31 | C68: =IF(B68="","",IF(COUNTIF($B$8:$B$99,B68)=1,"①",COUNTIF($B$8:B68,B68))) | J68: =$C$3 -> 0
J69: =$C$3 -> 0
A70: 32 | C70: =IF(B70="","",IF(COUNTIF($B$8:$B$99,B70)=1,"①",COUNTIF($B$8:B70,B70))) | J70: =$C$3 -> 0
J71: =$C$3 -> 0
A72: 33 | C72: =IF(B72="","",IF(COUNTIF($B$8:$B$99,B72)=1,"①",COUNTIF($B$8:B72,B72))) | J72: =$C$3 -> 0
J73: =$C$3 -> 0
A74: 34 | C74: =IF(B74="","",IF(COUNTIF($B$8:$B$99,B74)=1,"①",COUNTIF($B$8:B74,B74))) | J74: =$C$3 -> 0
J75: =$C$3 -> 0
A76: 35 | C76: =IF(B76="","",IF(COUNTIF($B$8:$B$99,B76)=1,"①",COUNTIF($B$8:B76,B76))) | J76: =$C$3 -> 0
J77: =$C$3 -> 0
A78: 36 | C78: =IF(B78="","",IF(COUNTIF($B$8:$B$99,B78)=1,"①",COUNTIF($B$8:B78,B78))) | J78: =$C$3 -> 0
J79: =$C$3 -> 0
A80: 37 | C80: =IF(B80="","",IF(COUNTIF($B$8:$B$99,B80)=1,"①",COUNTIF($B$8:B80,B80))) | J80: =$C$3 -> 0
J81: =$C$3 -> 0
A82: 38 | C82: =IF(B82="","",IF(COUNTIF($B$8:$B$99,B82)=1,"①",COUNTIF($B$8:B82,B82))) | J82: =$C$3 -> 0
J83: =$C$3 -> 0
A84: 39 | C84: =IF(B84="","",IF(COUNTIF($B$8:$B$99,B84)=1,"①",COUNTIF($B$8:B84,B84))) | J84: =$C$3 -> 0
J85: =$C$3 -> 0
A86: 40 | C86: =IF(B86="","",IF(COUNTIF($B$8:$B$99,B86)=1,"①",COUNTIF($B$8:B86,B86))) | J86: =$C$3 -> 0
J87: =$C$3 -> 0
A88: 41 | C88: =IF(B88="","",IF(COUNTIF($B$8:$B$99,B88)=1,"①",COUNTIF($B$8:B88,B88))) | J88: =$C$3 -> 0
J89: =$C$3 -> 0
A90: 42 | C90: =IF(B90="","",IF(COUNTIF($B$8:$B$99,B90)=1,"①",COUNTIF($B$8:B90,B90))) | J90: =$C$3 -> 0
J91: =$C$3 -> 0
A92: 43 | C92: =IF(B92="","",IF(COUNTIF($B$8:$B$99,B92)=1,"①",COUNTIF($B$8:B92,B92))) | J92: =$C$3 -> 0
J93: =$C$3 -> 0
A94: 44 | C94: =IF(B94="","",IF(COUNTIF($B$8:$B$99,B94)=1,"①",COUNTIF($B$8:B94,B94))) | J94: =$C$3 -> 0
J95: =$C$3 -> 0
A96: 45 | C96: =IF(B96="","",IF(COUNTIF($B$8:$B$99,B96)=1,"①",COUNTIF($B$8:B96,B96))) | J96: =$C$3 -> 0
J97: =$C$3 -> 0
A98: 46 | C98: =IF(B98="","",IF(COUNTIF($B$8:$B$99,B98)=1,"①",COUNTIF($B$8:B98,B98))) | J98: =$C$3 -> 0
J99: =$C$3 -> 0
A100: 47 | C100: =IF(B100="","",IF(COUNTIF($B$8:$B$99,B100)=1,"①",COUNTIF($B$8:B100,B100))) | J100: =$C$3 -> 0
J101: =$C$3 -> 0
A102: 48 | C102: =IF(B102="","",IF(COUNTIF($B$8:$B$99,B102)=1,"①",COUNTIF($B$8:B102,B102))) | J102: =$C$3 -> 0
...

Sheet 一般単
A1: =チーム名!D1 -> 第６３回姫路秋季バドミントン大会 | G1: シングルス申込書
B3: チーム名： | C3: =チーム名!B1 -> 0
A5: No. | B5: エントリー種目 (リスト選択） | C5: チーム内 順位 | D5: 氏名・姓 | E5: 氏名・名 | F5: フリガナ・姓 （カタカナ） | G5: フリガナ・名 （カタカナ） | H5: 性別 | I5: 学年 | J5: チーム名 | L5: 【入力時の注意事項】マクロで自動取り込みさせているため、以下の入力条件を必ず守ってください。
A6: 例 | B6: 一般女子１部単 | C6: ① | D6: 白鷺 | E6: 姫子 | F6: シラサギ | G6: ヒメコ | H6: 女 | J6: チームしろまるひめ | L6: ※守られていない場合、正しく受付されない場合があります
A7: 1 | C7: =IF(B7="","",IF(COUNTIF($B$7:$B$56,B7)=1,"①",COUNTIF($B$7:B7,B7))) | J7: =$C$3 -> 0
A8: 2 | C8: =IF(B8="","",IF(COUNTIF($B$7:$B$56,B8)=1,"①",COUNTIF($B$7:B8,B8))) | J8: =$C$3 -> 0 | L8: ＊高校生が参加する場合は、学年欄の学年を選択してください
A9: 3 | C9: =IF(B9="","",IF(COUNTIF($B$7:$B$56,B9)=1,"①",COUNTIF($B$7:B9,B9))) | J9: =$C$3 -> 0 | L9: ＊チーム内順位は自動で反映されます。チーム内の強い順に上から記入してください。
A10: 4 | C10: =IF(B10="","",IF(COUNTIF($B$7:$B$56,B10)=1,"①",COUNTIF($B$7:B10,B10))) | J10: =$C$3 -> 0
A11: 5 | C11: =IF(B11="","",IF(COUNTIF($B$7:$B$56,B11)=1,"①",COUNTIF($B$7:B11,B11))) | J11: =$C$3 -> 0 | L11: ＊エントリーNo.を飛ばして入力しないでください
A12: 6 | C12: =IF(B12="","",IF(COUNTIF($B$7:$B$56,B12)=1,"①",COUNTIF($B$7:B12,B12))) | J12: =$C$3 -> 0 | M12: 例） | N12: No.1 から No.4 を入力して、No.3 が不参加になった場合、No.3 を削除するだけではなく、No.4 を No.3 に再入力してください
A13: 7 | C13: =IF(B13="","",IF(COUNTIF($B$7:$B$56,B13)=1,"①",COUNTIF($B$7:B13,B13))) | J13: =$C$3 -> 0
A14: 8 | C14: =IF(B14="","",IF(COUNTIF($B$7:$B$56,B14)=1,"①",COUNTIF($B$7:B14,B14))) | J14: =$C$3 -> 0
A15: 9 | C15: =IF(B15="","",IF(COUNTIF($B$7:$B$56,B15)=1,"①",COUNTIF($B$7:B15,B15))) | J15: =$C$3 -> 0
A16: 10 | C16: =IF(B16="","",IF(COUNTIF($B$7:$B$56,B16)=1,"①",COUNTIF($B$7:B16,B16))) | J16: =$C$3 -> 0
A17: 11 | C17: =IF(B17="","",IF(COUNTIF($B$7:$B$56,B17)=1,"①",COUNTIF($B$7:B17,B17))) | J17: =$C$3 -> 0
A18: 12 | C18: =IF(B18="","",IF(COUNTIF($B$7:$B$56,B18)=1,"①",COUNTIF($B$7:B18,B18))) | J18: =$C$3 -> 0
A19: 13 | C19: =IF(B19="","",IF(COUNTIF($B$7:$B$56,B19)=1,"①",COUNTIF($B$7:B19,B19))) | J19: =$C$3 -> 0
A20: 14 | C20: =IF(B20="","",IF(COUNTIF($B$7:$B$56,B20)=1,"①",COUNTIF($B$7:B20,B20))) | J20: =$C$3 -> 0
A21: 15 | C21: =IF(B21="","",IF(COUNTIF($B$7:$B$56,B21)=1,"①",COUNTIF($B$7:B21,B21))) | J21: =$C$3 -> 0
A22: 16 | C22: =IF(B22="","",IF(COUNTIF($B$7:$B$56,B22)=1,"①",COUNTIF($B$7:B22,B22))) | J22: =$C$3 -> 0
A23: 17 | C23: =IF(B23="","",IF(COUNTIF($B$7:$B$56,B23)=1,"①",COUNTIF($B$7:B23,B23))) | J23: =$C$3 -> 0
A24: 18 | C24: =IF(B24="","",IF(COUNTIF($B$7:$B$56,B24)=1,"①",COUNTIF($B$7:B24,B24))) | J24: =$C$3 -> 0
... A35: 29 | C35: =IF(B35="","",IF(COUNTIF($B$7:$B$56,B35)=1,"①",COUNTIF($B$7:B35,B35))) | J35: =$C$3 -> 0
A36: 30 | C36: =IF(B36="","",IF(COUNTIF($B$7:$B$48,B36)=1,"①",COUNTIF($B$7:B36,B36))) | J36: =$C$3 -> 0
A37: 31 | C37: =IF(B37="","",IF(COUNTIF($B$7:$B$48,B37)=1,"①",COUNTIF($B$7:B37,B37))) | J37: =$C$3 -> 0
A38: 32 | C38: =IF(B38="","",IF(COUNTIF($B$7:$B$48,B38)=1,"①",COUNTIF($B$7:B38,B38))) | J38: =$C$3 -> 0
A39: 33 | C39: =IF(B39="","",IF(COUNTIF($B$7:$B$48,B39)=1,"①",COUNTIF($B$7:B39,B39))) | J39: =$C$3 -> 0
A40: 34 | C40: =IF(B40="","",IF(COUNTIF($B$7:$B$48,B40)=1,"①",COUNTIF($B$7:B40,B40))) | J40: =$C$3 -> 0
A41: 35 | C41: =IF(B41="","",IF(COUNTIF($B$7:$B$48,B41)=1,"①",COUNTIF($B$7:B41,B41))) | J41: =$C$3 -> 0
A42: 36 | C42: =IF(B42="","",IF(COUNTIF($B$7:$B$48,B42)=1,"①",COUNTIF($B$7:B42,B42))) | J42: =$C$3 -> 0
A43: 37 | C43: =IF(B43="","",IF(COUNTIF($B$7:$B$48,B43)=1,"①",COUNTIF($B$7:B43,B43))) | J43: =$C$3 -> 0
A44: 38 | C44: =IF(B44="","",IF(COUNTIF($B$7:$B$48,B44)=1,"①",COUNTIF($B$7:B44,B44))) | J44: =$C$3 -> 0
A45: 39 | C45: =IF(B45="","",IF(COUNTIF($B$7:$B$48,B45)=1,"①",COUNTIF($B$7:B45,B45))) | J45: =$C$3 -> 0
A46: 40 | C46: =IF(B46="","",IF(COUNTIF($B$7:$B$48,B46)=1,"①",COUNTIF($B$7:B46,B46))) | J46: =$C$3 -> 0
A47: 41 | C47: =IF(B47="","",IF(COUNTIF($B$7:$B$48,B47)=1,"①",COUNTIF($B$7:B47,B47))) | J47: =$C$3 -> 0
... A56: 50 | C56: =IF(B56="","",IF(COUNTIF($B$7:$B$48,B56)=1,"①",COUNTIF($B$7:B56,B56))) | J56: =$C$3 -> 0

Sheet 降格願
A1: 降格願
A2: 姫路バドミントン協会 御中
A4: 団体名 | D4: 代表者氏名
A5: =チーム名!B1 -> 0
A7: 降格を希望する人（ペア･個人）は以下の条件を満足していることを書面で申請する
A8: ことによって降格を認める。（申告は各団体の代表者から行うこととする）
A9: 〔条件〕 出場した直近２大会で１勝もできていない人・ペア・団体
A10: ただし、４５歳以上は、出場した直近１大会で１勝もできていない人・ペア
A11: ※申告条件は、正確に記載ください。全て実記録と照らし合わせて確認を行います。
A12: 実記録にて、降格条件を満たしていない場合は、降格を認めません。
A14: 降格を希望する団体・個人 | B14: 種目 | C14: 現ランク | D14: 申告条件(試合結果)
A15: ・白鷺 姫子 ・播磨 官兵衛 | B15: 混合複 | C15: ２部 | D15: 2024年 姫路市民大会 ２部予選リーグで3戦３敗 2024年 秋季大会 ２部予選リーグで３戦２敗（１組棄権）
A21: 代表者より提出された降格願は、組合せ会議で確認し決定する。
D22: 姫路バドミントン協会

Sheet チーム登録
A1: 2026年度 姫路バドミントン協会クラブ登録申請
B3: チーム名 | F3: ※チーム名は、プログラム掲載の都合、全角８文字（半角16文字）以内です
B4: 主な活動拠点 | F4: ※ここで記入されたチーム名が大会申し込み書のチーム名選択欄に表示されます
B5: ※活動拠点は、姫路市内の場合、小学校などの学校名、体育館名のいずれかを記載 | F5: ※活動拠点が複数記入されている場合は、最初に記載された拠点名をホームページに掲載します
B6: 県内姫路市外の場合は、市区町村名。兵庫県外の場合は都道府県名を記載
B8: ●代表者 | C8: ※代表者宛に総会の案内、および緊急の案内をメールで送ります | F8: ●ホームページ掲載連絡先（掲載を希望するチームのみ）
B9: 氏名 | C9: メールアドレス | F9: 連絡先種別 | G9: URL, メール、@ユーザ名など
F10: 掲載を希望しない
B12: ●連絡担当者 | C12: ※連絡担当者宛てに、大会案内など通常の案内をメールで送ります
B13: 氏名 | C13: メールアドレス
B16: ●追加の連絡先 | C16: ※連絡担当者以外にも通常の案内が必要な場合追加可能です
B17: 氏名 | C17: メールアドレス
B22: ※水色の箇所は入力必須項目です
B23: ※登録クラブのチーム名、主な活動拠点、代表者氏名の３点を協会ホームページに掲載します
B24: チーム連絡先の掲載を希望される場合は、連絡先情報も記入してください（希望者のみ）
B25: ※この申込書は、エクセルファイルのまま提出してください。マクロで取り込みを行います
B27: 申込先メールアドレス：himeji.bad.ass@gmail.com

Sheet DATA
B2: 一般男子１部複 | C2: 一般男子１部単 | D2: 男子１部 | E2: 女子１部 | F2: 中学男子複 | G2: 中３ | H2: 高１ | I2: 男子団体
B3: 一般男子２部複 | C3: 一般男子２部単 | D3: 男子２部 | E3: 女子２部 | F3: 中学女子複 | G3: 中２ | H3: 高２ | I3: 女子団体
B4: 一般男子３部複 | C4: 一般男子３部単 | D4: 男子３部 | E4: 女子３部 | F4: 小学男子複１部 | G4: 中１ | H4: 高３ | I4: 男子複
B5: 一般女子１部複 | C5: 一般女子１部単 | F5: 小学男子複２部 | G5: 小６ | H5: 高４(定時) | I5: 女子複
B6: 一般女子２部複 | C6: 一般女子２部単 | F6: 小学女子複１部 | G6: 小５ | I6: 混合複
B7: 一般女子３部複 | C7: 一般女子３部単 | F7: 小学女子複２部 | G7: 小４ | I7: 男子単
B8: 一般混合１部複 | G8: 小３ | I8: 女子単
B9: 一般混合２部複 | G9: 小２
B10: 一般混合３部複 | G10: 小１
B13: 一般男子初級複
B14: 一般男子シニア複
B16: 一般女子初級複
B17: 一般女子シニア複
B19: 一般混合初級複
B20: 一般混合シニア複
B21: 教職員複
