{"text_format":"3","workbook":"xlsx","n_sheets":8,"sheets":["改定履歴","県団体　要項","県団体　参加申込書","１部　申込名簿","2部　申込名簿","正式名称と略称","事務局用","事務局用（アサミ）"],"not_rendered":{"defined_names":3,"comments":2},"read":"whole","date_system":"1900"}

{"sheet":"改定履歴","index":0,"n_rows":1,"n_cols":1,"rows_kept":1}
["2026-06-21"]

{"sheet":"県団体　要項","index":1,"n_rows":64,"n_cols":33,"rows_kept":64,"merged":[[0,0,1,42],[2,6,2,7],[2,33,2,37],[3,2,3,5],[4,2,4,5],[5,2,5,5],[6,2,6,5],[6,7,6,13],[7,2,7,5],[8,25,8,26],[8,28,8,31],[9,2,9,5],[10,2,10,5],[11,2,11,5],[19,2,19,5],[20,2,20,5],[21,2,21,5],[31,2,31,5],[31,16,31,18],[32,2,32,5],[32,7,32,38],[37,2,37,5],[37,7,37,13],[38,2,38,5],[40,8,40,21],[42,19,42,29],[54,2,54,5],[55,2,55,5],[55,8,55,37]]}
["第43回　岐阜県ジュニアバドミントン大会（団体）要項"]
[]
[]
["1",null,"主催",{"$nulls":4},"岐阜県バドミントン協会"]
["2",null,"主管",{"$nulls":4},"岐阜県小学生バドミントン連盟"]
["3",null,"後援"]
["4",null,"期日",{"$nulls":4},"2026-11-28",{"$nulls":7},"9時00分"]
["5",null,"会場",{"$nulls":4},"感謝と挑戦のＴＹＫ体育館（多治見市総合体育館）"]
[{"$nulls":8},"岐阜県多治見市大畑町 2-150",{"$nulls":14},"℡","(","0572",null,")","22-4111"]
["6",null,"種別",{"$nulls":4},"小学生団体",{"$nulls":5},"(1)","男子１部",{"$nulls":4},"(2)","女子１部",{"$nulls":4},"(3)","男子２部",{"$nulls":4},"(4)","女子２部"]
["7",null,"競技規則",{"$nulls":4},"2026年度（公財）日本バドミントン協会競技規則並びに大会運営規程及び公認審判員規程による。"]
["8",null,"競技方法",{"$nulls":4},"(1)","ブロック別リーグ戦の後トーナメント戦とする。"]
[{"$nulls":7},"(2)","1部リーグは順位決定戦を行う。"]
[{"$nulls":8},"2部リーグは３位決定戦を行わない。"]
[{"$nulls":7},"(3)","男子・女子チームとも１複２単(学年は不問)の対抗戦"]
[{"$nulls":7},"(4)","同一人が一対戦で単・複を兼ねては出場できない。"]
[{"$nulls":7},"(5)","リーグ戦は、勝敗決定後も全試合行うが、トーナメント戦は勝敗決定次第試合を打ち切る。"]
[{"$nulls":7},"※","参加人数･会場都合等により、競技方法を変更する場合がある。"]
[{"$nulls":8},"大会プログラムに記載される「競技･審判上の注意」を参照すること。"]
["9",null,"団体編成",{"$nulls":4},"男子・女子チームとも監督１名・コーチ各２名、選手４～７名"]
["10",null,"使用器具",{"$nulls":4},"（公財）日本バドミントン協会検定・審査合格用器具等を使用する。"]
["11",null,"参加資格",{"$nulls":4},"(1)","選手は2026年度岐阜県小学生バドミントン連盟登録者及び"]
[{"$nulls":8},"2026年度岐阜県小学生バドミントン連盟の後期に登録する者であること。"]
[{"$nulls":7},"(2)","保護者の同意があること。"]
[{"$nulls":7},"(3)","参加チームの構成は、年間を通じて同一クラブで継続して活動している選手で編成するものとする。"]
[{"$nulls":7},"(4)","選手は１部と２部への重複してのエントリーは不可。"]
[{"$nulls":7},"(5)","男子１部　8位入賞、女子１部　8位入賞したチームは、東海小学生バドミントン大会団体戦に出場する。"]
[{"$nulls":7},"(6)","参加クラブは各種別毎（男子1部、女子1部は１チーム）（男子２部、女子２部は２チームまで）とする。"]
[{"$nulls":7},"(7)","本大会における監督・コーチは、岐阜県バドミントン協会登録者であること。"]
[{"$nulls":8},"本大会における監督・コーチは、申込時点に登録をすること。"]
[{"$nulls":8},"監督・コーチの登録は一人１クラブのみとする。（複数のクラブへの登録不可）"]
["12",null,"参加料",{"$nulls":4},"・","団体",null,null,"１チーム",{"$nulls":4},{"v":3600,"d":"3,600"},null,null,"円"]
["13",null,"払込方法",{"$nulls":4},"参加料は下記大会専用口座あて振り込むこと。"]
[{"$nulls":8},"振込先",{"$nulls":3},"郵便口座",{"$nulls":3},"００８９０－７－１７４９４５"]
[{"$nulls":12},"名　　　称",{"$nulls":3},"岐阜県小学生バドミントン連盟"]
[{"$nulls":8},"※","申込み後のキャンセルは棄権とし参加料は返金しない。"]
[{"$nulls":8},"※","現金による納入は一切取扱わない。領収証は発行しないので振込票控えを保管のこと。"]
["14",null,"申込締切",{"$nulls":4},"2026-10-20",{"$nulls":7},"24時必着"]
["15",null,"申込方法",{"$nulls":4},"メールにて申し込みのこと"]
[{"$nulls":7},"①","岐阜県小学生バドミントン連盟ホームページより申込書をダウンロードする"]
[{"$nulls":8},"http://gifusyoubad.gifu-badminton.com/"]
[{"$nulls":7},"②","ダウンロードした申込書に必要事項を記入の上、下記メールアドレスへ添付して送信する"]
[{"$nulls":8},"申込書送信先メールアドレス",{"$nulls":10},"gifu_syoubad@gifu-badminton.com",{"$nulls":11},"太田　良彦　宛"]
[{"$nulls":7},"《注意事項》"]
[{"$nulls":7},"○","申し込み後のキャンセルは受け付けられません。"]
[{"$nulls":7},"〇","2026年度岐阜県小学生バドミントン連盟の後期に登録する者は、"]
[{"$nulls":8},"日本バドミントン協会の会員番号を取得すること。（仮登録で可）"]
[{"$nulls":7},"〇","申し込み手続きに関して不備がある場合、参加を認めない。"]
[{"$nulls":8},"★","参加費振込票余白に「大会名」、「団体名（クラブ名）」、「納入金内訳」を"]
[{"$nulls":9},"明記すること。"]
[{"$nulls":8},"★","入力された氏名・ふりがなは大会プログラム等にそのまま使用するので、正確に入力すること。"]
[{"$nulls":8},"★","申込書のメール送信は、申込締切日厳守のこと。"]
[{"$nulls":7},"○","本大会申し込み受付の確認を9月26日までに岐阜県小学生バドミントン連盟ホームページで"]
[{"$nulls":8},"行ってください。"]
["16",null,"表彰",{"$nulls":4},"各種別とも３位まで表彰"]
["17",null,"その他",{"$nulls":4},"(1)","競技者のユニホームは（財）日本バドミントン協会審査合格品とする。"]
[{"$nulls":7},"(2)","組合せ及びシャトルは主催者が決定する。"]
[{"$nulls":7},"(3)","選手が負傷した場合、応急処置は主催者が行い、医師にかかった場合は保険金を支払う。"]
[{"$nulls":8},"この傷害保険の掛金は、参加料から支出する。"]
[{"$nulls":7},"(4)","大会参加に際して提供される個人情報は、本大会運営に係る場合にのみ利用するものとする。"]
[{"$nulls":7},"(5)","オーダー表の提出等については、組合せをホームページに掲載する際、併せて掲載する。"]
[{"$nulls":8},"本ホームページを参照すること。"]
[{"$nulls":7},"(6)","参加するクラブは、競技運営の各係のお手伝い及び審判員の協力を行うこととします。"]
[{"$nulls":7},"(7)","大会申込みのメールを送信する際、必ず連絡先を明記のこと。"]

{"sheet":"県団体　参加申込書","index":2,"n_rows":17,"n_cols":4,"rows_kept":17,"merged":[[0,0,0,4],[2,2,2,3]]}
["第43回  岐阜県ジュニアバドミントン大会　団体の部"]
[]
[null,"団体名"]
[null,"男　/ 女","申込チーム数","参加人数"]
[null,"男1部"]
[null,"女1部"]
[null,"男2部"]
[null,"女2部"]
[null,null,{"$f":"SUM(C5:C8)","v":0},{"$f":"SUM(D5:D8)","v":0}]
[null,"参加料",{"v":3600,"d":"¥3,600"}]
[null,"参加料合計（振込金額）",null,{"$f":"C9*C10","v":{"v":0,"d":"¥0"}}]
[]
[null,"参加料は、要項を確認して振込みしてください。"]
[]
[null,"※□内は全て記入してください。"]
[null,"申込責任者氏名"]
[null,"連絡先電話番号"]

{"sheet":"１部　申込名簿","index":3,"n_rows":27,"n_cols":15,"rows_kept":27,"merged":[[0,1,0,13],[1,1,1,5],[1,9,1,13],[2,1,2,5],[2,9,2,13],[3,1,3,5],[3,9,3,13],[4,2,4,5],[4,10,4,13],[5,4,6,4],[5,5,6,5],[5,12,6,12],[5,13,6,13],[7,1,8,1],[7,4,8,4],[7,5,8,5],[7,6,8,6],[7,9,8,9],[7,12,8,12],[7,13,8,13],[7,14,8,14],[9,1,10,1],[9,4,10,4],[9,5,10,5],[9,6,10,6],[9,9,10,9],[9,12,10,12],[9,13,10,13],[9,14,10,14],[10,18,11,18],[10,19,11,19],[10,27,11,27],[10,28,11,28],[11,1,12,1],[11,4,12,4],[11,5,12,5],[11,6,12,6],[11,9,12,9],[11,12,12,12],[11,13,12,13],[11,14,12,14],[12,18,13,18],[12,19,13,19],[12,27,13,27],[12,28,13,28],[13,2,13,4],[13,10,13,12],[14,1,15,1],[14,4,15,4],[14,5,15,5],[14,9,15,9],[14,12,15,12],[14,13,15,13],[14,18,15,18],[14,19,15,19],[14,27,15,27],[14,28,15,28],[16,1,17,1],[16,4,17,4],[16,5,17,5],[16,9,17,9],[16,12,17,12],[16,13,17,13],[16,18,17,18],[16,19,17,19],[16,27,17,27],[16,28,17,28],[18,1,19,1],[18,4,19,4],[18,5,19,5],[18,9,19,9],[18,12,19,12],[18,13,19,13],[18,18,19,18],[18,19,19,19],[18,27,19,27],[18,28,19,28],[20,1,21,1],[20,4,21,4],[20,5,21,5],[20,9,21,9],[20,12,21,12],[20,13,21,13],[20,18,21,18],[20,19,21,19],[20,27,21,27],[20,28,21,28],[22,1,23,1],[22,4,23,4],[22,5,23,5],[22,9,23,9],[22,12,23,12],[22,13,23,13],[24,1,25,1],[24,4,25,4],[24,5,25,5],[24,9,25,9],[24,12,25,12],[24,13,25,13],[26,1,27,1],[26,4,27,4],[26,5,27,5],[26,9,27,9],[26,12,27,12],[26,13,27,13]]}
["＊","監督・コーチで日バ登録が県外の方は資格確認のため生年月日の記入をお願いします。"]
[null,"第43回岐阜県ジュニアバドミントン大会（団体）",{"$nulls":7},{"$f":"B2","v":"第43回岐阜県ジュニアバドミントン大会（団体）"}]
[null,"　申込書",{"$nulls":7},"　申込書"]
[null,"男子１部",{"$nulls":7},"女子１部"]
[null,"チーム名",{"$nulls":7},"チーム名"]
[null,null,"フリガナ(姓)","フリガナ(名)","学年","登録番号","日バ登録が県外の方",{"$nulls":3},"フリガナ(姓)","フリガナ(名)","学年","登録番号","日バ登録が県外の方"]
[null,null,"氏名(姓)","氏名(名)",null,null,"生年月日",{"$nulls":3},"氏名(姓)","氏名(名)",null,null,"生年月日"]
[null,"監　督",{"$nulls":7},"監　督"]
[]
[null,"コーチ",{"$nulls":7},"コーチ"]
[]
[null,"コーチ",{"$nulls":7},"コーチ"]
[]
[null,null,"選手欄",{"$nulls":7},"選手欄"]
[null,1,{"$nulls":7},1]
[]
[null,2,{"$nulls":7},2]
[]
[null,3,{"$nulls":7},3]
[]
[null,4,{"$nulls":7},4]
[]
[null,5,{"$nulls":7},5]
[]
[null,6,{"$nulls":7},6]
[]
[null,7,{"$nulls":7},7]

{"sheet":"2部　申込名簿","index":4,"n_rows":27,"n_cols":31,"rows_kept":27,"merged":[[0,1,0,13],[0,17,0,29],[1,1,1,5],[1,9,1,13],[1,17,1,21],[1,25,1,29],[2,1,2,5],[2,9,2,13],[2,17,2,21],[2,25,2,29],[3,1,3,5],[3,9,3,13],[3,17,3,21],[3,25,3,29],[4,2,4,5],[4,10,4,13],[4,18,4,21],[4,26,4,29],[5,4,6,4],[5,5,6,5],[5,12,6,12],[5,13,6,13],[5,20,6,20],[5,21,6,21],[5,28,6,28],[5,29,6,29],[7,1,8,1],[7,4,8,4],[7,5,8,5],[7,6,8,6],[7,9,8,9],[7,12,8,12],[7,13,8,13],[7,14,8,14],[7,17,8,17],[7,20,8,20],[7,21,8,21],[7,22,8,22],[7,25,8,25],[7,28,8,28],[7,29,8,29],[7,30,8,30],[9,1,10,1],[9,4,10,4],[9,5,10,5],[9,6,10,6],[9,9,10,9],[9,12,10,12],[9,13,10,13],[9,14,10,14],[9,17,10,17],[9,20,10,20],[9,21,10,21],[9,22,10,22],[9,25,10,25],[9,28,10,28],[9,29,10,29],[9,30,10,30],[11,1,12,1],[11,4,12,4],[11,5,12,5],[11,6,12,6],[11,9,12,9],[11,12,12,12],[11,13,12,13],[11,14,12,14],[11,17,12,17],[11,20,12,20],[11,21,12,21],[11,22,12,22],[11,25,12,25],[11,28,12,28],[11,29,12,29],[11,30,12,30],[13,2,13,4],[13,10,13,12],[13,18,13,20],[13,26,13,28],[14,1,15,1],[14,4,15,4],[14,5,15,5],[14,9,15,9],[14,12,15,12],[14,13,15,13],[14,17,15,17],[14,20,15,20],[14,21,15,21],[14,25,15,25],[14,28,15,28],[14,29,15,29],[16,1,17,1],[16,4,17,4],[16,5,17,5],[16,9,17,9],[16,12,17,12],[16,13,17,13],[16,17,17,17],[16,20,17,20],[16,21,17,21],[16,25,17,25],[16,28,17,28],[16,29,17,29],[18,1,19,1],[18,4,19,4],[18,5,19,5],[18,9,19,9],[18,12,19,12],[18,13,19,13],[18,17,19,17],[18,20,19,20],[18,21,19,21],[18,25,19,25],[18,28,19,28],[18,29,19,29],[20,1,21,1],[20,4,21,4],[20,5,21,5],[20,9,21,9],[20,12,21,12],[20,13,21,13],[20,17,21,17],[20,20,21,20],[20,21,21,21],[20,25,21,25],[20,28,21,28],[20,29,21,29],[22,1,23,1],[22,4,23,4],[22,5,23,5],[22,9,23,9],[22,12,23,12],[22,13,23,13],[22,17,23,17],[22,20,23,20],[22,21,23,21],[22,25,23,25],[22,28,23,28],[22,29,23,29],[24,1,25,1],[24,4,25,4],[24,5,25,5],[24,9,25,9],[24,12,25,12],[24,13,25,13],[24,17,25,17],[24,20,25,20],[24,21,25,21],[24,25,25,25],[24,28,25,28],[24,29,25,29],[26,1,27,1],[26,4,27,4],[26,5,27,5],[26,9,27,9],[26,12,27,12],[26,13,27,13],[26,17,27,17],[26,20,27,20],[26,21,27,21],[26,25,27,25],[26,28,27,28],[26,29,27,29]]}
["＊","監督・コーチで日バ登録が県外の方は資格確認のため生年月日の記入をお願いします。",{"$nulls":14},"＊","監督・コーチで日バ登録が県外の方は資格確認のため生年月日の記入をお願いします。"]
[null,{"$f":"'１部　申込名簿'!$B$2","v":"第43回岐阜県ジュニアバドミントン大会（団体）"},{"$nulls":7},{"$f":"'１部　申込名簿'!$B$2","v":"第43回岐阜県ジュニアバドミントン大会（団体）"},{"$nulls":7},{"$f":"'１部　申込名簿'!$B$2","v":"第43回岐阜県ジュニアバドミントン大会（団体）"},{"$nulls":7},{"$f":"'１部　申込名簿'!$B$2","v":"第43回岐阜県ジュニアバドミントン大会（団体）"}]
[null,"　申込書",{"$nulls":7},"　申込書",{"$nulls":7},"　申込書",{"$nulls":7},"　申込書"]
[null,"男子２部",{"$nulls":7},"男子２部",{"$nulls":7},"女子２部",{"$nulls":7},"女子２部"]
[null,"チーム名",{"$nulls":7},"チーム名",{"$nulls":7},"チーム名",{"$nulls":7},"チーム名"]
[null,null,"フリガナ(姓)","フリガナ(名)","学年","登録番号","日バ登録が県外の方",{"$nulls":3},"フリガナ(姓)","フリガナ(名)","学年","登録番号","日バ登録が県外の方",{"$nulls":3},"フリガナ(姓)","フリガナ(名)","学年","登録番号","日バ登録が県外の方",{"$nulls":3},"フリガナ(姓)","フリガナ(名)","学年","登録番号","日バ登録が県外の方"]
[null,null,"氏名(姓)","氏名(名)",null,null,"生年月日",{"$nulls":3},"氏名(姓)","氏名(名)",null,null,"生年月日",{"$nulls":3},"氏名(姓)","氏名(名)",null,null,"生年月日",{"$nulls":3},"氏名(姓)","氏名(名)",null,null,"生年月日"]
[null,"監　督",{"$nulls":7},"監　督",{"$nulls":7},"監　督",{"$nulls":7},"監　督"]
[]
[null,"コーチ",{"$nulls":7},"コーチ",{"$nulls":7},"コーチ",{"$nulls":7},"コーチ"]
[]
[null,"コーチ",{"$nulls":7},"コーチ",{"$nulls":7},"コーチ",{"$nulls":7},"コーチ"]
[]
[null,null,"選手欄",{"$nulls":7},"選手欄",{"$nulls":7},"選手欄",{"$nulls":7},"選手欄"]
[null,1,{"$nulls":7},1,{"$nulls":7},1,{"$nulls":7},1]
[]
[null,2,{"$nulls":7},2,{"$nulls":7},2,{"$nulls":7},2]
[]
[null,3,{"$nulls":7},3,{"$nulls":7},3,{"$nulls":7},3]
[]
[null,4,{"$nulls":7},4,{"$nulls":7},4,{"$nulls":7},4]
[]
[null,5,{"$nulls":7},5,{"$nulls":7},5,{"$nulls":7},5]
[]
[null,6,{"$nulls":7},6,{"$nulls":7},6,{"$nulls":7},6]
[]
[null,7,{"$nulls":7},7,{"$nulls":7},7,{"$nulls":7},7]

{"sheet":"正式名称と略称","index":5,"n_rows":31,"n_cols":4,"rows_kept":31}
[]
["所属団体\n番号","管理\n番号","所属団体名","略名"]
[1,5922,"池田町バドミントン少年団","池田"]
[2,5933,"大垣北バドミントン少年団","大垣北"]
[3,5935,"大垣市BSS","大垣市"]
[4,5936,"大垣静里バドミントン少年団","大垣静里"]
[5,6108,"大垣中川バドミントン少年団","大垣中川"]
[6,6109,"大垣東バドミントン少年団","大垣東"]
[7,6107,"大垣安井バドミントン少年団","大垣安井"]
[8,6043,"各務原ジュニアバドミントンクラブ","各務原"]
[9,6045,"岐南ジュニアBC","岐南"]
[10,6093,"郡上八幡Ｊｒ．バドミントンクラブ","郡上"]
[11,6100,"神戸町バドミントン少年団","神戸"]
[12,6099,"真正ジュニアバドミントンスポーツ少年団","真正"]
[13,6094,"高山ジュニアバドミントンクラブ","高山"]
[14,6105,"多治見ジュニアバドミントンクラブ","多治見"]
[15,6102,"垂井ジュニアバドミントンクラブ","垂井"]
[16,6042,"羽島クラブ","羽島"]
[17,6118,"本巣JBC","本巣"]
[18,6119,"柳津バドミントンクラブ","柳津"]
[19,6039,"リバースバドミントンクラブ","リバース"]
[20,6101,"垂井ＪＳＣ","垂井ＪＳＣ"]
[21,6113,"長森・日野スポーツクラブ　バドミントン部","長森日野"]
[22,6115,"島ジュニアバドミントンクラブ","島"]
[23,6019,"びとう会","びとう会"]
[24,6087,"岐阜市ＢＢＣ","岐阜市"]
[25,6103,"精華スポーツクラブ","精華"]
[26,24964,"Team IMPACT","IMPACT"]
[27,6090,"岐阜西バドミントンクラブ","岐阜西"]
[28,26941,"STAYGOLD","STAYGOLD"]
[29,28568,"みずほバドミントンスポーツ少年団","みずほ"]

{"sheet":"事務局用","index":6,"n_rows":26,"n_cols":25,"rows_kept":26}
[]
[null,"男子１部",{"$nulls":5},"女子１部"]
[null,"氏名","学年","会員番号","ふりがな","チーム名",null,"氏名","学年","会員番号","ふりがな","チーム名"]
[null,{"$f":"'１部　申込名簿'!$C9&\"　\"&'１部　申込名簿'!$D9","v":"　"},"一般",{"$f":"IF('１部　申込名簿'!$F8=0,\"\",'１部　申込名簿'!$F8)","v":""},{"$f":"'１部　申込名簿'!$C8&\"　\"&'１部　申込名簿'!$D8","v":"　"},{"$f":"IF('１部　申込名簿'!$C5=0,\"\",'１部　申込名簿'!$C5)","v":""},null,{"$f":"'１部　申込名簿'!$K9&\"　\"&'１部　申込名簿'!$L9","v":"　"},"一般",{"$f":"IF('１部　申込名簿'!$N8=0,\"\",'１部　申込名簿'!$N8)","v":""},{"$f":"'１部　申込名簿'!$K8&\"　\"&'１部　申込名簿'!$L8","v":"　"},{"$f":"IF('１部　申込名簿'!$K5=0,\"\",'１部　申込名簿'!$K5)","v":""}]
[null,{"$f":"'１部　申込名簿'!$C11&\"　\"&'１部　申込名簿'!$D11","v":"　"},"一般",{"$f":"IF('１部　申込名簿'!$F10=0,\"\",'１部　申込名簿'!$F10)","v":""},{"$f":"'１部　申込名簿'!$C10&\"　\"&'１部　申込名簿'!$D10","v":"　"},{"$f":"IF(B5=\"\",\"\",F$4)","v":""},null,{"$f":"'１部　申込名簿'!$K11&\"　\"&'１部　申込名簿'!$L11","v":"　"},"一般",{"$f":"IF('１部　申込名簿'!$N10=0,\"\",'１部　申込名簿'!$N10)","v":""},{"$f":"'１部　申込名簿'!$K10&\"　\"&'１部　申込名簿'!$L10","v":"　"},{"$f":"IF(H5=\"\",\"\",L$4)","v":""}]
[null,{"$f":"'１部　申込名簿'!$C13&\"　\"&'１部　申込名簿'!$D13","v":"　"},"一般",{"$f":"IF('１部　申込名簿'!$F12=0,\"\",'１部　申込名簿'!$F12)","v":""},{"$f":"'１部　申込名簿'!$C12&\"　\"&'１部　申込名簿'!$D12","v":"　"},{"$f":"IF(B6=\"\",\"\",F$4)","v":""},null,{"$f":"'１部　申込名簿'!$K13&\"　\"&'１部　申込名簿'!$L13","v":"　"},"一般",{"$f":"IF('１部　申込名簿'!$N12=0,\"\",'１部　申込名簿'!$N12)","v":""},{"$f":"'１部　申込名簿'!$K12&\"　\"&'１部　申込名簿'!$L12","v":"　"},{"$f":"IF(H6=\"\",\"\",L$4)","v":""}]
[null,{"$f":"'１部　申込名簿'!$C16&\"　\"&'１部　申込名簿'!$D16","v":"　"},{"$f":"IF('１部　申込名簿'!$E15=0,\"\",'１部　申込名簿'!$E15)","v":""},{"$f":"IF('１部　申込名簿'!$F15=0,\"\",'１部　申込名簿'!$F15)","v":""},{"$f":"'１部　申込名簿'!$C15&\"　\"&'１部　申込名簿'!$D15","v":"　"},"",null,{"$f":"'１部　申込名簿'!$K16&\"　\"&'１部　申込名簿'!$L16","v":"　"},{"$f":"IF('１部　申込名簿'!$M15=0,\"\",'１部　申込名簿'!$M15)","v":""},{"$f":"IF('１部　申込名簿'!$N15=0,\"\",'１部　申込名簿'!$N15)","v":""},{"$f":"'１部　申込名簿'!$K15&\"　\"&'１部　申込名簿'!$L15","v":"　"},""]
[null,{"$f":"'１部　申込名簿'!$C18&\"　\"&'１部　申込名簿'!$D18","v":"　"},{"$f":"IF('１部　申込名簿'!$E17=0,\"\",'１部　申込名簿'!$E17)","v":""},{"$f":"IF('１部　申込名簿'!$F17=0,\"\",'１部　申込名簿'!$F17)","v":""},{"$f":"'１部　申込名簿'!$C17&\"　\"&'１部　申込名簿'!$D17","v":"　"},{"$f":"IF(B8=\"\",\"\",F$4)","v":""},null,{"$f":"'１部　申込名簿'!$K18&\"　\"&'１部　申込名簿'!$L18","v":"　"},{"$f":"IF('１部　申込名簿'!$M17=0,\"\",'１部　申込名簿'!$M17)","v":""},{"$f":"IF('１部　申込名簿'!$N17=0,\"\",'１部　申込名簿'!$N17)","v":""},{"$f":"'１部　申込名簿'!$K17&\"　\"&'１部　申込名簿'!$L17","v":"　"},""]
[null,{"$f":"'１部　申込名簿'!$C20&\"　\"&'１部　申込名簿'!$D20","v":"　"},{"$f":"IF('１部　申込名簿'!$E19=0,\"\",'１部　申込名簿'!$E19)","v":""},{"$f":"IF('１部　申込名簿'!$F19=0,\"\",'１部　申込名簿'!$F19)","v":""},{"$f":"'１部　申込名簿'!$C19&\"　\"&'１部　申込名簿'!$D19","v":"　"},"",null,{"$f":"'１部　申込名簿'!$K20&\"　\"&'１部　申込名簿'!$L20","v":"　"},{"$f":"IF('１部　申込名簿'!$M19=0,\"\",'１部　申込名簿'!$M19)","v":""},{"$f":"IF('１部　申込名簿'!$N19=0,\"\",'１部　申込名簿'!$N19)","v":""},{"$f":"'１部　申込名簿'!$K19&\"　\"&'１部　申込名簿'!$L19","v":"　"},""]
[null,{"$f":"'１部　申込名簿'!$C22&\"　\"&'１部　申込名簿'!$D22","v":"　"},{"$f":"IF('１部　申込名簿'!$E21=0,\"\",'１部　申込名簿'!$E21)","v":""},{"$f":"IF('１部　申込名簿'!$F21=0,\"\",'１部　申込名簿'!$F21)","v":""},{"$f":"'１部　申込名簿'!$C21&\"　\"&'１部　申込名簿'!$D21","v":"　"},"",null,{"$f":"'１部　申込名簿'!$K22&\"　\"&'１部　申込名簿'!$L22","v":"　"},{"$f":"IF('１部　申込名簿'!$M21=0,\"\",'１部　申込名簿'!$M21)","v":""},{"$f":"IF('１部　申込名簿'!$N21=0,\"\",'１部　申込名簿'!$N21)","v":""},{"$f":"'１部　申込名簿'!$K21&\"　\"&'１部　申込名簿'!$L21","v":"　"},""]
[null,{"$f":"'１部　申込名簿'!$C24&\"　\"&'１部　申込名簿'!$D24","v":"　"},{"$f":"IF('１部　申込名簿'!$E23=0,\"\",'１部　申込名簿'!$E23)","v":""},{"$f":"IF('１部　申込名簿'!$F23=0,\"\",'１部　申込名簿'!$F23)","v":""},{"$f":"'１部　申込名簿'!$C23&\"　\"&'１部　申込名簿'!$D23","v":"　"},"",null,{"$f":"'１部　申込名簿'!$K24&\"　\"&'１部　申込名簿'!$L24","v":"　"},{"$f":"IF('１部　申込名簿'!$M23=0,\"\",'１部　申込名簿'!$M23)","v":""},{"$f":"IF('１部　申込名簿'!$N23=0,\"\",'１部　申込名簿'!$N23)","v":""},{"$f":"'１部　申込名簿'!$K23&\"　\"&'１部　申込名簿'!$L23","v":"　"},""]
[null,{"$f":"'１部　申込名簿'!$C26&\"　\"&'１部　申込名簿'!$D26","v":"　"},{"$f":"IF('１部　申込名簿'!$E25=0,\"\",'１部　申込名簿'!$E25)","v":""},{"$f":"IF('１部　申込名簿'!$F25=0,\"\",'１部　申込名簿'!$F25)","v":""},{"$f":"'１部　申込名簿'!$C25&\"　\"&'１部　申込名簿'!$D25","v":"　"},"",null,{"$f":"'１部　申込名簿'!$K26&\"　\"&'１部　申込名簿'!$L26","v":"　"},{"$f":"IF('１部　申込名簿'!$M25=0,\"\",'１部　申込名簿'!$M25)","v":""},{"$f":"IF('１部　申込名簿'!$N25=0,\"\",'１部　申込名簿'!$N25)","v":""},{"$f":"'１部　申込名簿'!$K25&\"　\"&'１部　申込名簿'!$L25","v":"　"},""]
[null,{"$f":"'１部　申込名簿'!$C28&\"　\"&'１部　申込名簿'!$D28","v":"　"},{"$f":"IF('１部　申込名簿'!$E27=0,\"\",'１部　申込名簿'!$E27)","v":""},{"$f":"IF('１部　申込名簿'!$F27=0,\"\",'１部　申込名簿'!$F27)","v":""},{"$f":"'１部　申込名簿'!$C27&\"　\"&'１部　申込名簿'!$D27","v":"　"},"",null,{"$f":"'１部　申込名簿'!$K28&\"　\"&'１部　申込名簿'!$L28","v":"　"},{"$f":"IF('１部　申込名簿'!$M27=0,\"\",'１部　申込名簿'!$M27)","v":""},{"$f":"IF('１部　申込名簿'!$N27=0,\"\",'１部　申込名簿'!$N27)","v":""},{"$f":"'１部　申込名簿'!$K27&\"　\"&'１部　申込名簿'!$L27","v":"　"},""]
[]
[null,"男子２部",{"$nulls":5},"男子２部",{"$nulls":6},"女子２部",{"$nulls":5},"女子２部"]
[null,"氏名","学年","会員番号","ふりがな","チーム名",null,"氏名","学年","会員番号","ふりがな","チーム名",null,null,"氏名","学年","会員番号","ふりがな","チーム名",null,"氏名","学年","会員番号","ふりがな","チーム名"]
[null,{"$f":"'2部　申込名簿'!$C9&\"　\"&'2部　申込名簿'!$D9","v":"　"},"一般",{"$f":"IF('2部　申込名簿'!$F8=0,\"\",'2部　申込名簿'!$F8)","v":""},{"$f":"'2部　申込名簿'!$C8&\"　\"&'2部　申込名簿'!$D8","v":"　"},{"$f":"IF('2部　申込名簿'!$C5=0,\"\",'2部　申込名簿'!$C5)","v":""},null,{"$f":"'2部　申込名簿'!$K9&\"　\"&'2部　申込名簿'!$L9","v":"　"},"一般",{"$f":"IF('2部　申込名簿'!$N8=0,\"\",'2部　申込名簿'!$N8)","v":""},{"$f":"'2部　申込名簿'!$K8&\"　\"&'2部　申込名簿'!$L8","v":"　"},{"$f":"IF('2部　申込名簿'!$K5=0,\"\",'2部　申込名簿'!$K5)","v":""},null,null,{"$f":"'2部　申込名簿'!$S9&\"　\"&'2部　申込名簿'!$T9","v":"　"},"一般",{"$f":"IF('2部　申込名簿'!$V8=0,\"\",'2部　申込名簿'!$V8)","v":""},{"$f":"'2部　申込名簿'!$S8&\"　\"&'2部　申込名簿'!$T8","v":"　"},{"$f":"IF('2部　申込名簿'!$S5=0,\"\",'2部　申込名簿'!$S5)","v":""},null,{"$f":"'2部　申込名簿'!$AA9&\"　\"&'2部　申込名簿'!$AB9","v":"　"},"一般",{"$f":"IF('2部　申込名簿'!$AD8=0,\"\",'2部　申込名簿'!$AD8)","v":""},{"$f":"'2部　申込名簿'!$AA8&\"　\"&'2部　申込名簿'!$AB8","v":"　"},{"$f":"IF('2部　申込名簿'!$AA5=0,\"\",'2部　申込名簿'!$AA5)","v":""}]
[null,{"$f":"'2部　申込名簿'!$C11&\"　\"&'2部　申込名簿'!$D11","v":"　"},"一般",{"$f":"IF('2部　申込名簿'!$F10=0,\"\",'2部　申込名簿'!$F10)","v":""},{"$f":"'2部　申込名簿'!$C10&\"　\"&'2部　申込名簿'!$D10","v":"　"},{"$f":"IF(B18=\"\",\"\",F$17)","v":""},null,{"$f":"'2部　申込名簿'!$K11&\"　\"&'2部　申込名簿'!$L11","v":"　"},"一般",{"$f":"IF('2部　申込名簿'!$N10=0,\"\",'2部　申込名簿'!$N10)","v":""},{"$f":"'2部　申込名簿'!$K10&\"　\"&'2部　申込名簿'!$L10","v":"　"},{"$f":"IF(H18=\"\",\"\",L$17)","v":""},null,null,{"$f":"'2部　申込名簿'!$S11&\"　\"&'2部　申込名簿'!$T11","v":"　"},"一般",{"$f":"IF('2部　申込名簿'!$V10=0,\"\",'2部　申込名簿'!$V10)","v":""},{"$f":"'2部　申込名簿'!$S10&\"　\"&'2部　申込名簿'!$T10","v":"　"},{"$f":"IF(O18=\"\",\"\",S$17)","v":""},null,{"$f":"'2部　申込名簿'!$AA11&\"　\"&'2部　申込名簿'!$AB11","v":"　"},"一般",{"$f":"IF('2部　申込名簿'!$AD10=0,\"\",'2部　申込名簿'!$AD10)","v":""},{"$f":"'2部　申込名簿'!$AA10&\"　\"&'2部　申込名簿'!$AB10","v":"　"},{"$f":"IF(U18=\"\",\"\",Y$17)","v":""}]
[null,{"$f":"'2部　申込名簿'!$C13&\"　\"&'2部　申込名簿'!$D13","v":"　"},"一般",{"$f":"IF('2部　申込名簿'!$F12=0,\"\",'2部　申込名簿'!$F12)","v":""},{"$f":"'2部　申込名簿'!$C12&\"　\"&'2部　申込名簿'!$D12","v":"　"},"",null,{"$f":"'2部　申込名簿'!$K13&\"　\"&'2部　申込名簿'!$L13","v":"　"},"一般",{"$f":"IF('2部　申込名簿'!$N12=0,\"\",'2部　申込名簿'!$N12)","v":""},{"$f":"'2部　申込名簿'!$K12&\"　\"&'2部　申込名簿'!$L12","v":"　"},"",null,null,{"$f":"'2部　申込名簿'!$S13&\"　\"&'2部　申込名簿'!$T13","v":"　"},"一般",{"$f":"IF('2部　申込名簿'!$V12=0,\"\",'2部　申込名簿'!$V12)","v":""},{"$f":"'2部　申込名簿'!$S12&\"　\"&'2部　申込名簿'!$T12","v":"　"},"",null,{"$f":"'2部　申込名簿'!$AA13&\"　\"&'2部　申込名簿'!$AB13","v":"　"},"一般",{"$f":"IF('2部　申込名簿'!$AD12=0,\"\",'2部　申込名簿'!$AD12)","v":""},{"$f":"'2部　申込名簿'!$AA12&\"　\"&'2部　申込名簿'!$AB12","v":"　"},""]
[null,{"$f":"'2部　申込名簿'!$C16&\"　\"&'2部　申込名簿'!$D16","v":"　"},{"$f":"IF('2部　申込名簿'!$E15=0,\"\",'2部　申込名簿'!$E15)","v":""},{"$f":"IF('2部　申込名簿'!$F15=0,\"\",'2部　申込名簿'!$F15)","v":""},{"$f":"'2部　申込名簿'!$C15&\"　\"&'2部　申込名簿'!$D15","v":"　"},"",null,{"$f":"'2部　申込名簿'!$K16&\"　\"&'2部　申込名簿'!$L16","v":"　"},{"$f":"IF('2部　申込名簿'!$M15=0,\"\",'2部　申込名簿'!$M15)","v":""},{"$f":"IF('2部　申込名簿'!$N15=0,\"\",'2部　申込名簿'!$N15)","v":""},{"$f":"'2部　申込名簿'!$K15&\"　\"&'2部　申込名簿'!$L15","v":"　"},"",null,null,{"$f":"'2部　申込名簿'!$S16&\"　\"&'2部　申込名簿'!$T16","v":"　"},{"$f":"IF('2部　申込名簿'!$U15=0,\"\",'2部　申込名簿'!$U15)","v":""},{"$f":"IF('2部　申込名簿'!$V15=0,\"\",'2部　申込名簿'!$V15)","v":""},{"$f":"'2部　申込名簿'!$S15&\"　\"&'2部　申込名簿'!$T15","v":"　"},"",null,{"$f":"'2部　申込名簿'!$AA16&\"　\"&'2部　申込名簿'!$AB16","v":"　"},{"$f":"IF('2部　申込名簿'!$AC15=0,\"\",'2部　申込名簿'!$AC15)","v":""},{"$f":"IF('2部　申込名簿'!$AD15=0,\"\",'2部　申込名簿'!$AD15)","v":""},{"$f":"'2部　申込名簿'!$AA15&\"　\"&'2部　申込名簿'!$AB15","v":"　"},""]
[null,{"$f":"'2部　申込名簿'!$C18&\"　\"&'2部　申込名簿'!$D18","v":"　"},{"$f":"IF('2部　申込名簿'!$E17=0,\"\",'2部　申込名簿'!$E17)","v":""},{"$f":"IF('2部　申込名簿'!$F17=0,\"\",'2部　申込名簿'!$F17)","v":""},{"$f":"'2部　申込名簿'!$C17&\"　\"&'2部　申込名簿'!$D17","v":"　"},"",null,{"$f":"'2部　申込名簿'!$K18&\"　\"&'2部　申込名簿'!$L18","v":"　"},{"$f":"IF('2部　申込名簿'!$M17=0,\"\",'2部　申込名簿'!$M17)","v":""},{"$f":"IF('2部　申込名簿'!$N17=0,\"\",'2部　申込名簿'!$N17)","v":""},{"$f":"'2部　申込名簿'!$K17&\"　\"&'2部　申込名簿'!$L17","v":"　"},"",null,null,{"$f":"'2部　申込名簿'!$S18&\"　\"&'2部　申込名簿'!$T18","v":"　"},{"$f":"IF('2部　申込名簿'!$U17=0,\"\",'2部　申込名簿'!$U17)","v":""},{"$f":"IF('2部　申込名簿'!$V17=0,\"\",'2部　申込名簿'!$V17)","v":""},{"$f":"'2部　申込名簿'!$S17&\"　\"&'2部　申込名簿'!$T17","v":"　"},"",null,{"$f":"'2部　申込名簿'!$AA18&\"　\"&'2部　申込名簿'!$AB18","v":"　"},{"$f":"IF('2部　申込名簿'!$AC17=0,\"\",'2部　申込名簿'!$AC17)","v":""},{"$f":"IF('2部　申込名簿'!$AD17=0,\"\",'2部　申込名簿'!$AD17)","v":""},{"$f":"'2部　申込名簿'!$AA17&\"　\"&'2部　申込名簿'!$AB17","v":"　"},""]
[null,{"$f":"'2部　申込名簿'!$C20&\"　\"&'2部　申込名簿'!$D20","v":"　"},{"$f":"IF('2部　申込名簿'!$E19=0,\"\",'2部　申込名簿'!$E19)","v":""},{"$f":"IF('2部　申込名簿'!$F19=0,\"\",'2部　申込名簿'!$F19)","v":""},{"$f":"'2部　申込名簿'!$C19&\"　\"&'2部　申込名簿'!$D19","v":"　"},"",null,{"$f":"'2部　申込名簿'!$K20&\"　\"&'2部　申込名簿'!$L20","v":"　"},{"$f":"IF('2部　申込名簿'!$M19=0,\"\",'2部　申込名簿'!$M19)","v":""},{"$f":"IF('2部　申込名簿'!$N19=0,\"\",'2部　申込名簿'!$N19)","v":""},{"$f":"'2部　申込名簿'!$K19&\"　\"&'2部　申込名簿'!$L19","v":"　"},"",null,null,{"$f":"'2部　申込名簿'!$S20&\"　\"&'2部　申込名簿'!$T20","v":"　"},{"$f":"IF('2部　申込名簿'!$U19=0,\"\",'2部　申込名簿'!$U19)","v":""},{"$f":"IF('2部　申込名簿'!$V19=0,\"\",'2部　申込名簿'!$V19)","v":""},{"$f":"'2部　申込名簿'!$S19&\"　\"&'2部　申込名簿'!$T19","v":"　"},"",null,{"$f":"'2部　申込名簿'!$AA20&\"　\"&'2部　申込名簿'!$AB20","v":"　"},{"$f":"IF('2部　申込名簿'!$AC19=0,\"\",'2部　申込名簿'!$AC19)","v":""},{"$f":"IF('2部　申込名簿'!$AD19=0,\"\",'2部　申込名簿'!$AD19)","v":""},{"$f":"'2部　申込名簿'!$AA19&\"　\"&'2部　申込名簿'!$AB19","v":"　"},""]
[null,{"$f":"'2部　申込名簿'!$C22&\"　\"&'2部　申込名簿'!$D22","v":"　"},{"$f":"IF('2部　申込名簿'!$E21=0,\"\",'2部　申込名簿'!$E21)","v":""},{"$f":"IF('2部　申込名簿'!$F21=0,\"\",'2部　申込名簿'!$F21)","v":""},{"$f":"'2部　申込名簿'!$C21&\"　\"&'2部　申込名簿'!$D21","v":"　"},"",null,{"$f":"'2部　申込名簿'!$K22&\"　\"&'2部　申込名簿'!$L22","v":"　"},{"$f":"IF('2部　申込名簿'!$M21=0,\"\",'2部　申込名簿'!$M21)","v":""},{"$f":"IF('2部　申込名簿'!$N21=0,\"\",'2部　申込名簿'!$N21)","v":""},{"$f":"'2部　申込名簿'!$K21&\"　\"&'2部　申込名簿'!$L21","v":"　"},"",null,null,{"$f":"'2部　申込名簿'!$S22&\"　\"&'2部　申込名簿'!$T22","v":"　"},{"$f":"IF('2部　申込名簿'!$U21=0,\"\",'2部　申込名簿'!$U21)","v":""},{"$f":"IF('2部　申込名簿'!$V21=0,\"\",'2部　申込名簿'!$V21)","v":""},{"$f":"'2部　申込名簿'!$S21&\"　\"&'2部　申込名簿'!$T21","v":"　"},"",null,{"$f":"'2部　申込名簿'!$AA22&\"　\"&'2部　申込名簿'!$AB22","v":"　"},{"$f":"IF('2部　申込名簿'!$AC21=0,\"\",'2部　申込名簿'!$AC21)","v":""},{"$f":"IF('2部　申込名簿'!$AD21=0,\"\",'2部　申込名簿'!$AD21)","v":""},{"$f":"'2部　申込名簿'!$AA21&\"　\"&'2部　申込名簿'!$AB21","v":"　"},""]
[null,{"$f":"'2部　申込名簿'!$C24&\"　\"&'2部　申込名簿'!$D24","v":"　"},{"$f":"IF('2部　申込名簿'!$E23=0,\"\",'2部　申込名簿'!$E23)","v":""},{"$f":"IF('2部　申込名簿'!$F23=0,\"\",'2部　申込名簿'!$F23)","v":""},{"$f":"'2部　申込名簿'!$C23&\"　\"&'2部　申込名簿'!$D23","v":"　"},"",null,{"$f":"'2部　申込名簿'!$K24&\"　\"&'2部　申込名簿'!$L24","v":"　"},{"$f":"IF('2部　申込名簿'!$M23=0,\"\",'2部　申込名簿'!$M23)","v":""},{"$f":"IF('2部　申込名簿'!$N23=0,\"\",'2部　申込名簿'!$N23)","v":""},{"$f":"'2部　申込名簿'!$K23&\"　\"&'2部　申込名簿'!$L23","v":"　"},"",null,null,{"$f":"'2部　申込名簿'!$S24&\"　\"&'2部　申込名簿'!$T24","v":"　"},{"$f":"IF('2部　申込名簿'!$U23=0,\"\",'2部　申込名簿'!$U23)","v":""},{"$f":"IF('2部　申込名簿'!$V23=0,\"\",'2部　申込名簿'!$V23)","v":""},{"$f":"'2部　申込名簿'!$S23&\"　\"&'2部　申込名簿'!$T23","v":"　"},"",null,{"$f":"'2部　申込名簿'!$AA24&\"　\"&'2部　申込名簿'!$AB24","v":"　"},{"$f":"IF('2部　申込名簿'!$AC23=0,\"\",'2部　申込名簿'!$AC23)","v":""},{"$f":"IF('2部　申込名簿'!$AD23=0,\"\",'2部　申込名簿'!$AD23)","v":""},{"$f":"'2部　申込名簿'!$AA23&\"　\"&'2部　申込名簿'!$AB23","v":"　"},""]
[null,{"$f":"'2部　申込名簿'!$C26&\"　\"&'2部　申込名簿'!$D26","v":"　"},{"$f":"IF('2部　申込名簿'!$E25=0,\"\",'2部　申込名簿'!$E25)","v":""},{"$f":"IF('2部　申込名簿'!$F25=0,\"\",'2部　申込名簿'!$F25)","v":""},{"$f":"'2部　申込名簿'!$C25&\"　\"&'2部　申込名簿'!$D25","v":"　"},"",null,{"$f":"'2部　申込名簿'!$K26&\"　\"&'2部　申込名簿'!$L26","v":"　"},{"$f":"IF('2部　申込名簿'!$M25=0,\"\",'2部　申込名簿'!$M25)","v":""},{"$f":"IF('2部　申込名簿'!$N25=0,\"\",'2部　申込名簿'!$N25)","v":""},{"$f":"'2部　申込名簿'!$K25&\"　\"&'2部　申込名簿'!$L25","v":"　"},"",null,null,{"$f":"'2部　申込名簿'!$S26&\"　\"&'2部　申込名簿'!$T26","v":"　"},{"$f":"IF('2部　申込名簿'!$U25=0,\"\",'2部　申込名簿'!$U25)","v":""},{"$f":"IF('2部　申込名簿'!$V25=0,\"\",'2部　申込名簿'!$V25)","v":""},{"$f":"'2部　申込名簿'!$S25&\"　\"&'2部　申込名簿'!$T25","v":"　"},"",null,{"$f":"'2部　申込名簿'!$AA26&\"　\"&'2部　申込名簿'!$AB26","v":"　"},{"$f":"IF('2部　申込名簿'!$AC25=0,\"\",'2部　申込名簿'!$AC25)","v":""},{"$f":"IF('2部　申込名簿'!$AD25=0,\"\",'2部　申込名簿'!$AD25)","v":""},{"$f":"'2部　申込名簿'!$AA25&\"　\"&'2部　申込名簿'!$AB25","v":"　"},""]
[null,{"$f":"'2部　申込名簿'!$C28&\"　\"&'2部　申込名簿'!$D28","v":"　"},{"$f":"IF('2部　申込名簿'!$E27=0,\"\",'2部　申込名簿'!$E27)","v":""},{"$f":"IF('2部　申込名簿'!$F27=0,\"\",'2部　申込名簿'!$F27)","v":""},{"$f":"'2部　申込名簿'!$C27&\"　\"&'2部　申込名簿'!$D27","v":"　"},"",null,{"$f":"'2部　申込名簿'!$K28&\"　\"&'2部　申込名簿'!$L28","v":"　"},{"$f":"IF('2部　申込名簿'!$M27=0,\"\",'2部　申込名簿'!$M27)","v":""},{"$f":"IF('2部　申込名簿'!$N27=0,\"\",'2部　申込名簿'!$N27)","v":""},{"$f":"'2部　申込名簿'!$K27&\"　\"&'2部　申込名簿'!$L27","v":"　"},"",null,null,{"$f":"'2部　申込名簿'!$S28&\"　\"&'2部　申込名簿'!$T28","v":"　"},{"$f":"IF('2部　申込名簿'!$U27=0,\"\",'2部　申込名簿'!$U27)","v":""},{"$f":"IF('2部　申込名簿'!$V27=0,\"\",'2部　申込名簿'!$V27)","v":""},{"$f":"'2部　申込名簿'!$S27&\"　\"&'2部　申込名簿'!$T27","v":"　"},"",null,{"$f":"'2部　申込名簿'!$AA28&\"　\"&'2部　申込名簿'!$AB28","v":"　"},{"$f":"IF('2部　申込名簿'!$AC27=0,\"\",'2部　申込名簿'!$AC27)","v":""},{"$f":"IF('2部　申込名簿'!$AD27=0,\"\",'2部　申込名簿'!$AD27)","v":""},{"$f":"'2部　申込名簿'!$AA27&\"　\"&'2部　申込名簿'!$AB27","v":"　"},""]

{"sheet":"事務局用（アサミ）","index":7,"n_rows":67,"n_cols":9,"rows_kept":67}
[null,"種目","参加者区分","名前","ふりがな","グループ","付加情報"]
[null,"B1T","団体",{"$f":"事務局用!$F$4","v":""}]
[null,null,"監督",{"$f":"事務局用!B4","v":"　"},{"$f":"事務局用!E4","v":"　"},{"$nulls":3},{"$f":"事務局用!D4","v":""}]
[null,null,"コーチ",{"$f":"事務局用!B5","v":"　"},{"$f":"事務局用!E5","v":"　"},{"$nulls":3},{"$f":"事務局用!D5","v":""}]
[null,null,"コーチ",{"$f":"事務局用!B6","v":"　"},{"$f":"事務局用!E6","v":"　"},{"$nulls":3},{"$f":"事務局用!D6","v":""}]
[null,null,"選手",{"$f":"事務局用!B7","v":"　"},{"$f":"事務局用!E7","v":"　"},null,{"$f":"事務局用!C7","v":""},null,{"$f":"事務局用!D7","v":""}]
[null,null,"選手",{"$f":"事務局用!B8","v":"　"},{"$f":"事務局用!E8","v":"　"},null,{"$f":"事務局用!C8","v":""},null,{"$f":"事務局用!D8","v":""}]
[null,null,"選手",{"$f":"事務局用!B9","v":"　"},{"$f":"事務局用!E9","v":"　"},null,{"$f":"事務局用!C9","v":""},null,{"$f":"事務局用!D9","v":""}]
[null,null,"選手",{"$f":"事務局用!B10","v":"　"},{"$f":"事務局用!E10","v":"　"},null,{"$f":"事務局用!C10","v":""},null,{"$f":"事務局用!D10","v":""}]
[null,null,"選手",{"$f":"事務局用!B11","v":"　"},{"$f":"事務局用!E11","v":"　"},null,{"$f":"事務局用!C11","v":""},null,{"$f":"事務局用!D11","v":""}]
[null,null,"選手",{"$f":"事務局用!B12","v":"　"},{"$f":"事務局用!E12","v":"　"},null,{"$f":"事務局用!C12","v":""},null,{"$f":"事務局用!D12","v":""}]
[null,null,"選手",{"$f":"事務局用!B13","v":"　"},{"$f":"事務局用!E13","v":"　"},null,{"$f":"事務局用!C13","v":""},null,{"$f":"事務局用!D13","v":""}]
[null,"G1T","団体",{"$f":"事務局用!$L$4","v":""}]
[null,null,"監督",{"$f":"事務局用!H4","v":"　"},{"$f":"事務局用!K4","v":"　"},{"$nulls":3},{"$f":"事務局用!J4","v":""}]
[null,null,"コーチ",{"$f":"事務局用!H5","v":"　"},{"$f":"事務局用!K5","v":"　"},{"$nulls":3},{"$f":"事務局用!J5","v":""}]
[null,null,"コーチ",{"$f":"事務局用!H6","v":"　"},{"$f":"事務局用!K6","v":"　"},{"$nulls":3},{"$f":"事務局用!J6","v":""}]
[null,null,"選手",{"$f":"事務局用!H7","v":"　"},{"$f":"事務局用!K7","v":"　"},null,{"$f":"事務局用!I7","v":""},null,{"$f":"事務局用!J7","v":""}]
[null,null,"選手",{"$f":"事務局用!H8","v":"　"},{"$f":"事務局用!K8","v":"　"},null,{"$f":"事務局用!I8","v":""},null,{"$f":"事務局用!J8","v":""}]
[null,null,"選手",{"$f":"事務局用!H9","v":"　"},{"$f":"事務局用!K9","v":"　"},null,{"$f":"事務局用!I9","v":""},null,{"$f":"事務局用!J9","v":""}]
[null,null,"選手",{"$f":"事務局用!H10","v":"　"},{"$f":"事務局用!K10","v":"　"},null,{"$f":"事務局用!I10","v":""},null,{"$f":"事務局用!J10","v":""}]
[null,null,"選手",{"$f":"事務局用!H11","v":"　"},{"$f":"事務局用!K11","v":"　"},null,{"$f":"事務局用!I11","v":""},null,{"$f":"事務局用!J11","v":""}]
[null,null,"選手",{"$f":"事務局用!H12","v":"　"},{"$f":"事務局用!K12","v":"　"},null,{"$f":"事務局用!I12","v":""},null,{"$f":"事務局用!J12","v":""}]
[null,null,"選手",{"$f":"事務局用!H13","v":"　"},{"$f":"事務局用!K13","v":"　"},null,{"$f":"事務局用!I13","v":""},null,{"$f":"事務局用!J13","v":""}]
[null,"B2T","団体",{"$f":"事務局用!F17","v":""}]
[null,null,"監督",{"$f":"事務局用!B17","v":"　"},{"$f":"事務局用!E17","v":"　"},{"$nulls":3},{"$f":"事務局用!D17","v":""}]
[null,null,"コーチ",{"$f":"事務局用!B18","v":"　"},{"$f":"事務局用!E18","v":"　"},{"$nulls":3},{"$f":"事務局用!D18","v":""}]
[null,null,"コーチ",{"$f":"事務局用!B19","v":"　"},{"$f":"事務局用!E19","v":"　"},{"$nulls":3},{"$f":"事務局用!D19","v":""}]
[null,null,"選手",{"$f":"事務局用!B20","v":"　"},{"$f":"事務局用!E20","v":"　"},null,{"$f":"事務局用!C20","v":""},null,{"$f":"事務局用!D20","v":""}]
[null,null,"選手",{"$f":"事務局用!B21","v":"　"},{"$f":"事務局用!E21","v":"　"},null,{"$f":"事務局用!C21","v":""},null,{"$f":"事務局用!D21","v":""}]
[null,null,"選手",{"$f":"事務局用!B22","v":"　"},{"$f":"事務局用!E22","v":"　"},null,{"$f":"事務局用!C22","v":""},null,{"$f":"事務局用!D22","v":""}]
[null,null,"選手",{"$f":"事務局用!B23","v":"　"},{"$f":"事務局用!E23","v":"　"},null,{"$f":"事務局用!C23","v":""},null,{"$f":"事務局用!D23","v":""}]
[null,null,"選手",{"$f":"事務局用!B24","v":"　"},{"$f":"事務局用!E24","v":"　"},null,{"$f":"事務局用!C24","v":""},null,{"$f":"事務局用!D24","v":""}]
[null,null,"選手",{"$f":"事務局用!B25","v":"　"},{"$f":"事務局用!E25","v":"　"},null,{"$f":"事務局用!C25","v":""},null,{"$f":"事務局用!D25","v":""}]
[null,null,"選手",{"$f":"事務局用!B26","v":"　"},{"$f":"事務局用!E26","v":"　"},null,{"$f":"事務局用!C26","v":""},null,{"$f":"事務局用!D26","v":""}]
[null,"B2T","団体",{"$f":"事務局用!L17","v":""}]
[null,null,"監督",{"$f":"事務局用!H17","v":"　"},{"$f":"事務局用!K17","v":"　"},{"$nulls":3},{"$f":"事務局用!J17","v":""}]
[null,null,"コーチ",{"$f":"事務局用!H18","v":"　"},{"$f":"事務局用!K18","v":"　"},{"$nulls":3},{"$f":"事務局用!J18","v":""}]
[null,null,"コーチ",{"$f":"事務局用!H19","v":"　"},{"$f":"事務局用!K19","v":"　"},{"$nulls":3},{"$f":"事務局用!J19","v":""}]
[null,null,"選手",{"$f":"事務局用!H20","v":"　"},{"$f":"事務局用!K20","v":"　"},null,{"$f":"事務局用!I20","v":""},null,{"$f":"事務局用!J20","v":""}]
[null,null,"選手",{"$f":"事務局用!H21","v":"　"},{"$f":"事務局用!K21","v":"　"},null,{"$f":"事務局用!I21","v":""},null,{"$f":"事務局用!J21","v":""}]
[null,null,"選手",{"$f":"事務局用!H22","v":"　"},{"$f":"事務局用!K22","v":"　"},null,{"$f":"事務局用!I22","v":""},null,{"$f":"事務局用!J22","v":""}]
[null,null,"選手",{"$f":"事務局用!H23","v":"　"},{"$f":"事務局用!K23","v":"　"},null,{"$f":"事務局用!I23","v":""},null,{"$f":"事務局用!J23","v":""}]
[null,null,"選手",{"$f":"事務局用!H24","v":"　"},{"$f":"事務局用!K24","v":"　"},null,{"$f":"事務局用!I24","v":""},null,{"$f":"事務局用!J24","v":""}]
[null,null,"選手",{"$f":"事務局用!H25","v":"　"},{"$f":"事務局用!K25","v":"　"},null,{"$f":"事務局用!I25","v":""},null,{"$f":"事務局用!J25","v":""}]
[null,null,"選手",{"$f":"事務局用!H26","v":"　"},{"$f":"事務局用!K26","v":"　"},null,{"$f":"事務局用!I26","v":""},null,{"$f":"事務局用!J26","v":""}]
[null,"G2T","団体",{"$f":"事務局用!S17","v":""}]
[null,null,"監督",{"$f":"事務局用!O17","v":"　"},{"$f":"事務局用!R17","v":"　"},{"$nulls":3},{"$f":"事務局用!Q17","v":""}]
[null,null,"コーチ",{"$f":"事務局用!O18","v":"　"},{"$f":"事務局用!R18","v":"　"},{"$nulls":3},{"$f":"事務局用!Q18","v":""}]
[null,null,"コーチ",{"$f":"事務局用!O19","v":"　"},{"$f":"事務局用!R19","v":"　"},{"$nulls":3},{"$f":"事務局用!Q19","v":""}]
[null,null,"選手",{"$f":"事務局用!O20","v":"　"},{"$f":"事務局用!R20","v":"　"},null,{"$f":"事務局用!P20","v":""},null,{"$f":"事務局用!Q20","v":""}]
[null,null,"選手",{"$f":"事務局用!O21","v":"　"},{"$f":"事務局用!R21","v":"　"},null,{"$f":"事務局用!P21","v":""},null,{"$f":"事務局用!Q21","v":""}]
[null,null,"選手",{"$f":"事務局用!O22","v":"　"},{"$f":"事務局用!R22","v":"　"},null,{"$f":"事務局用!P22","v":""},null,{"$f":"事務局用!Q22","v":""}]
[null,null,"選手",{"$f":"事務局用!O23","v":"　"},{"$f":"事務局用!R23","v":"　"},null,{"$f":"事務局用!P23","v":""},null,{"$f":"事務局用!Q23","v":""}]
[null,null,"選手",{"$f":"事務局用!O24","v":"　"},{"$f":"事務局用!R24","v":"　"},null,{"$f":"事務局用!P24","v":""},null,{"$f":"事務局用!Q24","v":""}]
[null,null,"選手",{"$f":"事務局用!O25","v":"　"},{"$f":"事務局用!R25","v":"　"},null,{"$f":"事務局用!P25","v":""},null,{"$f":"事務局用!Q25","v":""}]
[null,null,"選手",{"$f":"事務局用!O26","v":"　"},{"$f":"事務局用!R26","v":"　"},null,{"$f":"事務局用!P26","v":""},null,{"$f":"事務局用!Q26","v":""}]
[null,"G2T","団体",{"$f":"事務局用!Y17","v":""}]
[null,null,"監督",{"$f":"事務局用!U17","v":"　"},{"$f":"事務局用!X17","v":"　"},{"$nulls":3},{"$f":"事務局用!W17","v":""}]
[null,null,"コーチ",{"$f":"事務局用!U18","v":"　"},{"$f":"事務局用!X18","v":"　"},{"$nulls":3},{"$f":"事務局用!W18","v":""}]
[null,null,"コーチ",{"$f":"事務局用!U19","v":"　"},{"$f":"事務局用!X19","v":"　"},{"$nulls":3},{"$f":"事務局用!W19","v":""}]
[null,null,"選手",{"$f":"事務局用!U20","v":"　"},{"$f":"事務局用!X20","v":"　"},null,{"$f":"事務局用!V20","v":""},null,{"$f":"事務局用!W20","v":""}]
[null,null,"選手",{"$f":"事務局用!U21","v":"　"},{"$f":"事務局用!X21","v":"　"},null,{"$f":"事務局用!V21","v":""},null,{"$f":"事務局用!W21","v":""}]
[null,null,"選手",{"$f":"事務局用!U22","v":"　"},{"$f":"事務局用!X22","v":"　"},null,{"$f":"事務局用!V22","v":""},null,{"$f":"事務局用!W22","v":""}]
[null,null,"選手",{"$f":"事務局用!U23","v":"　"},{"$f":"事務局用!X23","v":"　"},null,{"$f":"事務局用!V23","v":""},null,{"$f":"事務局用!W23","v":""}]
[null,null,"選手",{"$f":"事務局用!U24","v":"　"},{"$f":"事務局用!X24","v":"　"},null,{"$f":"事務局用!V24","v":""},null,{"$f":"事務局用!W24","v":""}]
[null,null,"選手",{"$f":"事務局用!U25","v":"　"},{"$f":"事務局用!X25","v":"　"},null,{"$f":"事務局用!V25","v":""},null,{"$f":"事務局用!W25","v":""}]
[null,null,"選手",{"$f":"事務局用!U26","v":"　"},{"$f":"事務局用!X26","v":"　"},null,{"$f":"事務局用!V26","v":""},null,{"$f":"事務局用!W26","v":""}]